BEGIN:VCALENDAR
PRODID:NingEventWidget-v1
VERSION:2.0
METHOD:PUBLISH
BEGIN:VTIMEZONE
TZID:Pacific/Midway
X-LIC-LOCATION:Pacific/Midway
BEGIN:STANDARD
TZOFFSETFROM:-1100
TZOFFSETTO:-1100
TZNAME:SST
DTSTART:19700101T000000
END:STANDARD
END:VTIMEZONE
BEGIN:VEVENT
UID:5072275:Event:1063883
DTSTAMP:20260424T014926Z
SUMMARY:Day of the Duels Motoring Festival -Daytona Beach Shores,FL
DESCRIPTION:5thAnnual\r\nDay of the Duels Motoring Festival\r\nPrevent
 ing Homelessness in Volusia County\r\nDennis Gage will film our event 
 for an Episode on his weekly Television Show   “My Classic Car”\
 r\n \r\nWhen: Thursday February 15, 2018 11:am-4:pm        \r
 \nAwards@ 3pm, Gates open @ 9am, Rain Day: Friday February 16th\r\nWhe
 re: Drive In Christian Church, A1A,\r\n3140 S. Atlantic Ave,Daytona Be
 ach Shores, FL 32118\r\nSilver Diamond Awards\r\nAwards Presented by: 
 Hanksters Hot Rods\r\n35 Best of Show, Pastor’s, HUM, Mayor’s, and
  “Dream Cruise” Rick’s Pick\r\n50/50 Drawing(Last Year was $1,50
 0)\r\n DJ: Frank Roberts Spins the Tunes\r\nLive and Silent Auction 
        Door prizes         Car Club Corals\r\nEntry Fee:
  Pre-register: $12 or $20 at the gate\r\nSpace is limited so Pre-regis
 tering is recommended!\r\nPre-register by 2/04/2018 which includes; sp
 ecial entry to the event & special parking. Pre-registration package, 
 with event decal, will be mailed 2 weeks before the show. Flyer, Entry
  Form, Payment available at \r\nwww.driveinchurch.net/carshow\r\nSpec
 tators are free however, cash donations are accepted\r\nDonations of n
 on-perishable food are appreciated from everyone\r\nAll proceeds benef
 it the Drive-in Christian Church &\r\nHalifax Urban Ministries\r\nPre-
 register by 2/05/2018\r\nEntry Fee Show:  At Gate $20     Pre-reg
 ister $12\r\nOnline Pre-registration: www.driveinchurch.net/carshow 
   Or\r\nMail Pre-registration form available @ www.driveinchurch.net
 /carshow\r\nMail to:   Drive In Christian Church\r\nPO Box 7175\r\nD
 aytona Beach, FL 32116-7175\r\nMake Checks Payable to: Drive In Christ
 ian Church\r\n \r\nQuestions: John @(404) 580-7714 or jmaffucci@aol.c
 om\n\nFor more information visit https://www.southeastwheelsevents.com
 /events/day-of-the-duels-motoring-festival-daytona-beach-shores-fl
DTSTART;TZID=Pacific/Midway:20180215T090000
DTEND;TZID=Pacific/Midway:20180215T160000
CATEGORIES:car, show
LOCATION:Drive In Christian Church, Daytona Beach Shores
WEBSITE:http://www.driveinchurch.net/carshow
URL:http://www.driveinchurch.net/carshow
CONTACT:4045807714
ORGANIZER;CN="John Maffucci":https://www.southeastwheelsevents.com/pro
 file/JohnMaffucci349
ATTACH;FMTTYPE="image/jpeg":http://storage.ning.com/topology/rest/1.0/
 file/get/967753138?profile=original
ATTENDEE;ROLE=REQ-PARTICIPANT;PARTSTAT=ACCEPTED;RSVP=TRUE;CN="Chuck Aa
 ron":https://www.southeastwheelsevents.com/profile/ChuckAaron886
ATTENDEE;ROLE=REQ-PARTICIPANT;PARTSTAT=ACCEPTED;RSVP=TRUE;CN="John Maf
 fucci":https://www.southeastwheelsevents.com/profile/JohnMaffucci349
END:VEVENT
END:VCALENDAR
