BEGIN:VCALENDAR
PRODID:NingEventWidget-v1
VERSION:2.0
METHOD:PUBLISH
BEGIN:VTIMEZONE
TZID:Pacific/Midway
X-LIC-LOCATION:Pacific/Midway
BEGIN:STANDARD
TZOFFSETFROM:-1100
TZOFFSETTO:-1100
TZNAME:SST
DTSTART:19700101T000000
END:STANDARD
END:VTIMEZONE
BEGIN:VEVENT
UID:5072275:Event:955679
DTSTAMP:20260424T155333Z
SUMMARY:Daytona Flea Market Monthly Classic Car Cruise-In -Daytona Bea
 ch, FL
DESCRIPTION:Daytona Flea and Farmers Market Monthly Classic Car Cruise
 -In\n\nThe Monthly Classic Car Cruise-In will be held at the Daytona
  Flea and Farmers Market in Daytona Beach, Florida on January 2nd, 201
 6.\nLocation:\n-Daytona Flea and Farmers Market in Daytona Beach, Flor
 ida(1425 Tomoka Farms Rd, Daytona Beach, FL 32124)\n\nFirst Saturday o
 f every month! FREE to show off your vehicle or to come see all of the
 m! Over 300 cars and trucks! DJ Frank Roberts is there from 9:00am-1:0
 0pm! Door prizes! \nPlease Contact For More Information:\n-(386) 253-
 3330\n\nFor more information visit https://www.southeastwheelsevents.c
 om/events/daytona-flea-market-monthly-classic-car-cruise-in-daytona-be
 ach-f
DTSTART;TZID=Pacific/Midway:20160102T090000
DTEND;TZID=Pacific/Midway:20160102T130000
CATEGORIES:flea-market, cruise-in
LOCATION:Daytona Flea and Farmers Market
WEBSITE:http://daytonafleamarket.com/calendar.cfm/mode/details/id/1966
 4/monthly-classic-car-cruise-in
URL:http://daytonafleamarket.com/calendar.cfm/mode/details/id/19664/mo
 nthly-classic-car-cruise-in
CONTACT:(386) 253-3330
ORGANIZER:Steve's Pickle Place
ATTACH;FMTTYPE="image/jpeg":http://storage.ning.com/topology/rest/1.0/
 file/get/967696654?profile=original
ATTENDEE;ROLE=REQ-PARTICIPANT;PARTSTAT=ACCEPTED;RSVP=TRUE;CN="Chuck Aa
 ron":https://www.southeastwheelsevents.com/profile/ChuckAaron
END:VEVENT
END:VCALENDAR
