BEGIN:VCALENDAR
PRODID:NingEventWidget-v1
VERSION:2.0
METHOD:PUBLISH
BEGIN:VTIMEZONE
TZID:Pacific/Midway
X-LIC-LOCATION:Pacific/Midway
BEGIN:STANDARD
TZOFFSETFROM:-1100
TZOFFSETTO:-1100
TZNAME:SST
DTSTART:19700101T000000
END:STANDARD
END:VTIMEZONE
BEGIN:VEVENT
UID:5072275:Event:13374
DTSTAMP:20260422T145512Z
SUMMARY:Daze Gone By Car Show -Covington, Ga.
DESCRIPTION:Awards for Top 25\n3- $100.00 Gas gift cards drawn for reg
 istered vehicles\nFood from Varsity 12:00 -2:00\nSpace Walk for Kids\n
 \nFor more information visit https://www.southeastwheelsevents.com/eve
 nts/daze-gone-by-car-show-1
DTSTART;TZID=Pacific/Midway:20100417T090000
DTEND;TZID=Pacific/Midway:20100417T150000
CATEGORIES:open, car, show
LOCATION:Prospesct Methodist Church
WEBSITE:http://prospectchurchonline.org/directions
URL:http://prospectchurchonline.org/directions
CONTACT:770-786-6303
ORGANIZER;CN="Yvonne Cobb":https://www.southeastwheelsevents.com/profi
 le/YvonneCobb
ATTACH;FMTTYPE="image/jpeg":
ATTENDEE;ROLE=REQ-PARTICIPANT;PARTSTAT=ACCEPTED;RSVP=TRUE;CN="Dave Wil
 liams":https://www.southeastwheelsevents.com/profile/DaveWilliams
ATTENDEE;ROLE=REQ-PARTICIPANT;PARTSTAT=ACCEPTED;RSVP=TRUE;CN="Jeff Rut
 herford":https://www.southeastwheelsevents.com/profile/JeffreyRutherfo
 rd
ATTENDEE;ROLE=REQ-PARTICIPANT;PARTSTAT=ACCEPTED;RSVP=TRUE;CN="Yvonne C
 obb":https://www.southeastwheelsevents.com/profile/YvonneCobb
END:VEVENT
END:VCALENDAR
