BEGIN:VCALENDAR
PRODID:NingEventWidget-v1
VERSION:2.0
METHOD:PUBLISH
BEGIN:VTIMEZONE
TZID:Pacific/Midway
X-LIC-LOCATION:Pacific/Midway
BEGIN:STANDARD
TZOFFSETFROM:-1100
TZOFFSETTO:-1100
TZNAME:SST
DTSTART:19700101T000000
END:STANDARD
END:VTIMEZONE
BEGIN:VEVENT
UID:5072275:Event:1030280
DTSTAMP:20260420T172848Z
SUMMARY:Dealer Sale at Southeastern Auto Auction
DESCRIPTION:Dealer only Sale will happen at Southeastern Auto Auction 
 1712 Dean Forest Rd, Savannah, GA. Whether you buy or sell one unit pe
 r month or fifty units per week, you are important to every team membe
 r at Southeastern Auto Auction! Sale starts at 9:30 a.m. and end time 
 of the sale may change.\n\nFor more information visit https://www.sout
 heastwheelsevents.com/events/dealer-sale-at-southeastern-auto-auction-
 1
DTSTART;TZID=Pacific/Midway:20170208T093000
DTEND;TZID=Pacific/Midway:20170208T120000
CATEGORIES:cars, "auction/swap"
LOCATION:Southeastern Auto Auction
WEBSITE:https://www.southeasternaa.com/about-us.html
URL:https://www.southeasternaa.com/about-us.html
CONTACT:
ORGANIZER:Southeastern Auto Auction
ATTACH;FMTTYPE="image/jpeg":
ATTENDEE;ROLE=REQ-PARTICIPANT;PARTSTAT=ACCEPTED;RSVP=TRUE;CN="Christop
 her Gosney":https://www.southeastwheelsevents.com/profile/ChristopherG
 osney
END:VEVENT
END:VCALENDAR
