BEGIN:VCALENDAR
PRODID:NingEventWidget-v1
VERSION:2.0
METHOD:PUBLISH
BEGIN:VTIMEZONE
TZID:Pacific/Midway
X-LIC-LOCATION:Pacific/Midway
BEGIN:STANDARD
TZOFFSETFROM:-1100
TZOFFSETTO:-1100
TZNAME:SST
DTSTART:19700101T000000
END:STANDARD
END:VTIMEZONE
BEGIN:VEVENT
UID:5072275:Event:827890
DTSTAMP:20260424T234844Z
SUMMARY:Fall Open House at Harley Davidson of Atlanta -Lithia Springs,
  GA
DESCRIPTION:\nThe Fall Open House will be held at Harley Davidson of 
 Atlanta in Lithia Springs, Georgia on October 17th, 2015.\nLocation:\n
 -Harley Davidson of Atlanta in Lithia Springs, Georgia(501 Thornton Rd
 , Lithia Springs, GA 30122)\n\nCheck back on the website listed below 
 for more details as they become available.\nPlease Contact For More In
 formation:\n-(770) 944-1340\n\nFor more information visit https://www.
 southeastwheelsevents.com/events/demo-day-at-harley-davidson-of-atlant
 a-lithia-springs-ga-1
DTSTART;TZID=Pacific/Midway:20151017T000000
DTEND;TZID=Pacific/Midway:20151017T235900
CATEGORIES:open, house
LOCATION:Harley Davidson of Atlanta
WEBSITE:http://www.hdatlanta.com/
URL:http://www.hdatlanta.com/
CONTACT:770-944-1340
ORGANIZER:Harley Davidson of Atlanta
ATTACH;FMTTYPE="image/jpeg":http://storage.ning.com/topology/rest/1.0/
 file/get/967671498?profile=original
ATTENDEE;ROLE=REQ-PARTICIPANT;PARTSTAT=ACCEPTED;RSVP=TRUE;CN="Chuck Aa
 ron":https://www.southeastwheelsevents.com/profile/ChuckAaron
END:VEVENT
END:VCALENDAR
