BEGIN:VCALENDAR
PRODID:NingEventWidget-v1
VERSION:2.0
METHOD:PUBLISH
BEGIN:VTIMEZONE
TZID:Pacific/Midway
X-LIC-LOCATION:Pacific/Midway
BEGIN:STANDARD
TZOFFSETFROM:-1100
TZOFFSETTO:-1100
TZNAME:SST
DTSTART:19700101T000000
END:STANDARD
END:VTIMEZONE
BEGIN:VEVENT
UID:5072275:Event:561403
DTSTAMP:20260421T070606Z
SUMMARY:Depot Days Classic Car, Truck, & Motorcycle Show -Hartselle, A
 L
DESCRIPTION:22nd Annual Depot Days Classic Car, Truck, & Motorcycle S
 how -Hartselle, AL\n\nFor more information visit https://www.southeast
 wheelsevents.com/events/depot-days-classic-car-truck-motorcycle-show-h
 artselle-al
DTSTART;TZID=Pacific/Midway:20120915T080000
DTEND;TZID=Pacific/Midway:20120915T150000
CATEGORIES:car, "&", truck, show
LOCATION:1st Methodist Church
WEBSITE:
URL:
CONTACT:800-294-0692
ORGANIZER:Susan Hines
ATTACH;FMTTYPE="image/jpeg":
ATTENDEE;ROLE=REQ-PARTICIPANT;PARTSTAT=ACCEPTED;RSVP=TRUE;CN="Jack Tho
 mas":https://www.southeastwheelsevents.com/profile/JackThomas
END:VEVENT
END:VCALENDAR
