BEGIN:VCALENDAR
PRODID:NingEventWidget-v1
VERSION:2.0
METHOD:PUBLISH
BEGIN:VTIMEZONE
TZID:Pacific/Midway
X-LIC-LOCATION:Pacific/Midway
BEGIN:STANDARD
TZOFFSETFROM:-1100
TZOFFSETTO:-1100
TZNAME:SST
DTSTART:19700101T000000
END:STANDARD
END:VTIMEZONE
BEGIN:VEVENT
UID:5072275:Event:673437
DTSTAMP:20260421T054730Z
SUMMARY:Destination Helen Motorcycle Rally -Helen, GA
DESCRIPTION:Destination Helen Motorcycle Rally 5th Annual\n\n\n\nDATE\
 nAugust 15 - August 18, 2013\n\nCITY / STATE\nHelen, Georgia (GA) Get
  a Google Map of the Area. \n\nDESCRIPTION\nThe 5th Annual Destinat
 ion Helen Motorcycle Rally will be held in Downtown Helen, Georgia fro
 m August 15th, 2013 to August 18th, 2013.\nLocation:-Downtown Helen, G
 eoriga\n5th Year Motorcycle Event in the mountains of North Georgia. F
 ree Escorted Rides each day of event. Open Vendor village, Motorcycle 
 Show, Welcome Party Thursday Night, Music, Biker Games, Camping. Etc.\
 nPlease Contact For More Information:-(706) 206-1686\n \n\n\nWEBSITE\
 nhttp://www.destinationhelen.com\n\nEMAIL\nleftie2@bellsouth.net desti
 nationhelen@windstream.net\n\nCONTACT\nKaren\n\nPHONE\n706-206-1686706
 -878-8520\n\n\n\n\nFor more information visit https://www.southeastwhe
 elsevents.com/events/destination-helen-motorcycle-rally-helen-ga
DTSTART;TZID=Pacific/Midway:20130815T000000
DTEND;TZID=Pacific/Midway:20130818T235900
CATEGORIES:motorcycle, rally
LOCATION:Downtown
WEBSITE:http://www.destinationhelen.com
URL:http://www.destinationhelen.com
CONTACT:(706) 206-1686
ORGANIZER:Karen
ATTACH;FMTTYPE="image/jpeg":http://storage.ning.com/topology/rest/1.0/
 file/get/967643282?profile=original
ATTENDEE;ROLE=REQ-PARTICIPANT;PARTSTAT=ACCEPTED;RSVP=TRUE;CN="Michael 
 Thies":https://www.southeastwheelsevents.com/profile/MichaelThies
END:VEVENT
END:VCALENDAR
