BEGIN:VCALENDAR
PRODID:NingEventWidget-v1
VERSION:2.0
METHOD:PUBLISH
BEGIN:VTIMEZONE
TZID:Pacific/Midway
X-LIC-LOCATION:Pacific/Midway
BEGIN:STANDARD
TZOFFSETFROM:-1100
TZOFFSETTO:-1100
TZNAME:SST
DTSTART:19700101T000000
END:STANDARD
END:VTIMEZONE
BEGIN:VEVENT
UID:5072275:Event:1230372
DTSTAMP:20260420T203921Z
SUMMARY:Diesels in Dark Corners XI -Whote Plains, GA
DESCRIPTION:Diesels In Dark Corners XI\" is a Diesels Sled Pull, and S
 how & Shine event in White Plains, GA Over $40,000 worth of payouts! T
 RACK ADDRESS IS 4230 Liberty Church Road, White Plains, GA 30642 Go to
  http://www.libertytruckandtractorpull.com/Location.html for detaile
 d directions. Please do NOT go down any DIRT roads that GPS tells you 
 to, go past and let it recalculate. Friday Specator Gates Open at 3pm 
 Friday Pull Starts at 6pm Saturday Gates open at 10 a.m. Saturday Pull
  Starts at 4pm Friday Admission is $10 per person(pullers plus one pit
  crew member get in free ), with Military ID is $5, Kids 10 and under 
 are free. CASH only please!! Saturday Admission is $20 per person (pul
 lers plus one pit crew member get in free), with Military ID is $10, K
 ids 10 and under are free. CASH only please!! Sled hook fee is $60 per
  class(1 hook per class, 2 classes max as you are qualified for). CASH
  only for hook fee also!. Friday Sled Pulling Classes are 2.6 Smooth B
 ore(PPL Rules) Limited Pro Diesel Truck(PPL Rules/Open Fuel Rule), Pro
  Stock Diesel Trucks(PPL Rules), and Super Stock Diesel Trucks(PPL Rul
 es), 8500lb Pro Farm Tractor, 4.1Hot Street Semis(Invitational Only), 
 Light Pro Tractors. Saturday Sled Pulling classes: 2.6 Smooth Bore Die
 sel Trucks(PPL Rules), Limited Pro Diesel Trucks (PPL Rules/Open Fuel 
 Rule), Pro Stock Diesel Trucks(PPL Rules), Super Stock Diesel Trucks(P
 PL Rules), Pro Farm Tractor(BOB), 4.1 Hot Street Semis(Invitational On
 ly), Light Pro Tractors Show and Shine is Saturday: More Information t
 o Come. Kids Pedal Tractor race will be Saturday at 4:00pm before the 
 pulls start. Pulling will begin at Saturday at 5pm Friday Pulling regi
 stration is from 1-4PM. Friday Drivers Meeting at 5:30 by the Sled. Pu
 lling begins at 6pm on Friday night Saturday Pulling registration is 1
 -3pm Drivers meeting is at 4:30 by the sled. Pull Begins at 5pm. We pu
 ll til we finish. INFORMATION AND MORE is subject to change. More info
  and rules can be found on www.libertytruckandtractorpull.com\n\nFor 
 more information visit https://www.southeastwheelsevents.com/events/di
 esels-in-dark-corners-xi-whote-plains-ga
DTSTART;TZID=Pacific/Midway:20211105T000000
DTEND;TZID=Pacific/Midway:20211106T235900
CATEGORIES:tracktor, truck, pull, car, show
LOCATION:4230 Liberty Church Rd
WEBSITE:http://www.libertytruckandtractorpull.com
URL:http://www.libertytruckandtractorpull.com
CONTACT:https://www.facebook.com/groups/dieselsindarkcorners
ORGANIZER:Diesels in Dark Corners
ATTACH;FMTTYPE="image/jpeg":https://storage.ning.com/topology/rest/1.0
 /file/get/9768834899?profile=original
ATTENDEE;ROLE=REQ-PARTICIPANT;PARTSTAT=ACCEPTED;RSVP=TRUE;CN="Chuck Aa
 ron":https://www.southeastwheelsevents.com/profile/ChuckAaron886
END:VEVENT
END:VCALENDAR
