BEGIN:VCALENDAR
PRODID:NingEventWidget-v1
VERSION:2.0
METHOD:PUBLISH
BEGIN:VTIMEZONE
TZID:Pacific/Midway
X-LIC-LOCATION:Pacific/Midway
BEGIN:STANDARD
TZOFFSETFROM:-1100
TZOFFSETTO:-1100
TZNAME:SST
DTSTART:19700101T000000
END:STANDARD
END:VTIMEZONE
BEGIN:VEVENT
UID:5072275:Event:1036370
DTSTAMP:20260422T141511Z
SUMMARY:Dirt Track First Night Of Points $1200 to Win Crate Late Model
DESCRIPTION:All Classes Racing\nGA $15.00,  Kids 6-10 $5.00,  Senior
  65 and Older $8.00,  Military $12.00—— Pits $35.00 and Kids 10 a
 nd Under $25.00\nGates Open at 4 pm and Hot laps at 6 pm Racing at 7:3
 0\n\nFor more information visit https://www.southeastwheelsevents.com/
 events/dirt-track-first-night-of-points-1200-to-win-crate-late-model
DTSTART;TZID=Pacific/Midway:20170401T000000
DTEND;TZID=Pacific/Midway:20170401T235900
CATEGORIES:race
LOCATION:Clarksville Speedway
WEBSITE:http://www.clarksvillespeedway.com/
URL:http://www.clarksvillespeedway.com/
CONTACT:
ORGANIZER:
ATTACH;FMTTYPE="image/jpeg":http://storage.ning.com/topology/rest/1.0/
 file/get/967739544?profile=original
ATTENDEE;ROLE=REQ-PARTICIPANT;PARTSTAT=ACCEPTED;RSVP=TRUE;CN="Christop
 her Gosney":https://www.southeastwheelsevents.com/profile/ChristopherG
 osney
END:VEVENT
END:VCALENDAR
