BEGIN:VCALENDAR
PRODID:NingEventWidget-v1
VERSION:2.0
METHOD:PUBLISH
BEGIN:VTIMEZONE
TZID:Pacific/Midway
X-LIC-LOCATION:Pacific/Midway
BEGIN:STANDARD
TZOFFSETFROM:-1100
TZOFFSETTO:-1100
TZNAME:SST
DTSTART:19700101T000000
END:STANDARD
END:VTIMEZONE
BEGIN:VEVENT
UID:5072275:Event:880659
DTSTAMP:20260423T045701Z
SUMMARY:Dixie Cruisers Club Meeting -Winder, GA
DESCRIPTION:The Dixie Cruisers of Winder, GA will hold a. monthly meet
 ing on the first Tuesday of the month at Las Vaqueros Restaurant! Visi
 tors and potential new members welcome! Bring your collector car to sh
 ow.\r\nWe are recruiting new members! Come along to check out a great 
 club.; the longest operating club of its kind in Georgia!\n\nFor more 
 information visit https://www.southeastwheelsevents.com/events/dixie-c
 ruisers-cruise-in-the-top-dawg-tavern-bethlehem-ga-3
DTSTART;TZID=Pacific/Midway:20180204T180000
DTEND;TZID=Pacific/Midway:20180206T200000
CATEGORIES:club, meeting, cruise, in
LOCATION:Las Vaqueros
WEBSITE:
URL:
CONTACT:404-414-4060
ORGANIZER:Contact: Charles Morton
ATTACH;FMTTYPE="image/jpeg":http://storage.ning.com/topology/rest/1.0/
 file/get/967681418?profile=original
ATTENDEE;ROLE=REQ-PARTICIPANT;PARTSTAT=ACCEPTED;RSVP=TRUE;CN="Randall 
 Carmichael":https://www.southeastwheelsevents.com/profile/RandallCarmi
 chael
ATTENDEE;ROLE=REQ-PARTICIPANT;PARTSTAT=ACCEPTED;RSVP=TRUE;CN="John Bak
 er":https://www.southeastwheelsevents.com/profile/JohnJBaker
ATTENDEE;ROLE=REQ-PARTICIPANT;PARTSTAT=ACCEPTED;RSVP=TRUE;CN="Michael 
 Thies":https://www.southeastwheelsevents.com/profile/MichaelThies
ATTENDEE;ROLE=REQ-PARTICIPANT;PARTSTAT=ACCEPTED;RSVP=TRUE;CN="Chuck Aa
 ron":https://www.southeastwheelsevents.com/profile/ChuckAaron886
ATTENDEE;ROLE=REQ-PARTICIPANT;PARTSTAT=TENTATIVE;RSVP=TRUE;CN="Chuck A
 aron":https://www.southeastwheelsevents.com/profile/ChuckAaron
END:VEVENT
END:VCALENDAR
