BEGIN:VCALENDAR
PRODID:NingEventWidget-v1
VERSION:2.0
METHOD:PUBLISH
BEGIN:VTIMEZONE
TZID:Pacific/Midway
X-LIC-LOCATION:Pacific/Midway
BEGIN:STANDARD
TZOFFSETFROM:-1100
TZOFFSETTO:-1100
TZNAME:SST
DTSTART:19700101T000000
END:STANDARD
END:VTIMEZONE
BEGIN:VEVENT
UID:5072275:Event:480945
DTSTAMP:20260419T085647Z
SUMMARY:DIXIE CRUISERS CRUISE-IN -Winder, Ga
DESCRIPTION:Our Cruise-Ins are on the 4th Saturday of every month star
 ting in March and finishing in October, at Holly Hill Mall Winder, Geo
 rgia----DJ---Door Prizes - 50.50 Contest - Awards for Top Choices by J
 udges.\n\nFor more information visit https://www.southeastwheelsevents
 .com/events/dixie-cruisers-cruise-in-winder-ga-2
DTSTART;TZID=Pacific/Midway:20120623T170000
DTEND;TZID=Pacific/Midway:20120623T210000
CATEGORIES:cruise-in
LOCATION:Holly Hill Mall
WEBSITE:
URL:
CONTACT:Francois Preston 706-621-0803
ORGANIZER:Dixie Cruisers
ATTACH;FMTTYPE="image/jpeg":http://storage.ning.com/topology/rest/1.0/
 file/get/967573050?profile=original
ATTENDEE;ROLE=REQ-PARTICIPANT;PARTSTAT=ACCEPTED;RSVP=TRUE;CN="Michael 
 Thies":https://www.southeastwheelsevents.com/profile/MichaelThies
END:VEVENT
END:VCALENDAR
