BEGIN:VCALENDAR
PRODID:NingEventWidget-v1
VERSION:2.0
METHOD:PUBLISH
BEGIN:VTIMEZONE
TZID:Pacific/Midway
X-LIC-LOCATION:Pacific/Midway
BEGIN:STANDARD
TZOFFSETFROM:-1100
TZOFFSETTO:-1100
TZNAME:SST
DTSTART:19700101T000000
END:STANDARD
END:VTIMEZONE
BEGIN:VEVENT
UID:5072275:Event:446073
DTSTAMP:20260422T121510Z
SUMMARY:Dixie Division's Tannehill Military Vehicle Show and Swap Meet
  -McCalla, AL
DESCRIPTION:Annual state wide show and swap meet. See historic militar
 y vehicles at the historic Tannehill State Park. Hotels in nearby Bess
 emer, Al at Academy Drive exit on I-59. See website ddmvpa.org\n\nFor 
 more information visit https://www.southeastwheelsevents.com/events/di
 xie-division-s-tannehill-military-vehicle-show-and-swap-meet
DTSTART;TZID=Pacific/Midway:20161104T000000
DTEND;TZID=Pacific/Midway:20161105T235900
CATEGORIES:military, vehicles, show
LOCATION:Tannehill State Park
WEBSITE:http://Ddmvpa.org
URL:http://Ddmvpa.org
CONTACT:205-631-0723
ORGANIZER;CN="Ron g":https://www.southeastwheelsevents.com/profile/Ron
 g
ATTACH;FMTTYPE="image/jpeg":http://storage.ning.com/topology/rest/1.0/
 file/get/967600572?profile=original
ATTENDEE;ROLE=REQ-PARTICIPANT;PARTSTAT=ACCEPTED;RSVP=TRUE;CN="Ron g":h
 ttps://www.southeastwheelsevents.com/profile/Rong
ATTENDEE;ROLE=REQ-PARTICIPANT;PARTSTAT=ACCEPTED;RSVP=TRUE;CN="Chuck Aa
 ron":https://www.southeastwheelsevents.com/profile/ChuckAaron886
END:VEVENT
END:VCALENDAR
