BEGIN:VCALENDAR
PRODID:NingEventWidget-v1
VERSION:2.0
METHOD:PUBLISH
BEGIN:VTIMEZONE
TZID:Pacific/Midway
X-LIC-LOCATION:Pacific/Midway
BEGIN:STANDARD
TZOFFSETFROM:-1100
TZOFFSETTO:-1100
TZNAME:SST
DTSTART:19700101T000000
END:STANDARD
END:VTIMEZONE
BEGIN:VEVENT
UID:5072275:Event:6612
DTSTAMP:20260424T160319Z
SUMMARY:Dixieland Cruisers Rod Run, Car Show & Swap Meet -Savannah, Ga
DESCRIPTION:Time: April 10, 2010 from 8am to 3pm\nLocation: Providence
  School\nCity/Town: Savannah\nPhone: 912.748.4005\nEvent Type: car, sh
 ow\nOrganized By: Joey\nDixieland Cruisers 22nd Annual Open Rod Run, C
 ar Show & Swap Meet at Providence School behind Savannah Mall. 8AM-3PM
 .\n\nFor more information visit https://www.southeastwheelsevents.com/
 events/dixieland-cruisers-rod-run-car
DTSTART;TZID=Pacific/Midway:20100410T080000
DTEND;TZID=Pacific/Midway:20100410T150000
CATEGORIES:car-show, rod-run
LOCATION:Providence School
WEBSITE:http://www.dixielandcruisers.org
URL:http://www.dixielandcruisers.org
CONTACT:912.748.4005
ORGANIZER:Dixieland Cruisers
ATTACH;FMTTYPE="image/jpeg":http://storage.ning.com/topology/rest/1.0/
 file/get/967571960?profile=original
ATTENDEE;ROLE=REQ-PARTICIPANT;PARTSTAT=ACCEPTED;RSVP=TRUE;CN="Michael 
 Thies":https://www.southeastwheelsevents.com/profile/MichaelThies
END:VEVENT
END:VCALENDAR
