BEGIN:VCALENDAR
PRODID:NingEventWidget-v1
VERSION:2.0
METHOD:PUBLISH
BEGIN:VTIMEZONE
TZID:Pacific/Midway
X-LIC-LOCATION:Pacific/Midway
BEGIN:STANDARD
TZOFFSETFROM:-1100
TZOFFSETTO:-1100
TZNAME:SST
DTSTART:19700101T000000
END:STANDARD
END:VTIMEZONE
BEGIN:VEVENT
UID:5072275:Event:1178338
DTSTAMP:20260423T093424Z
SUMMARY:Downtown Clarksville Sip and Stroll
DESCRIPTION:All the best rolled into one! Sip & Stroll, Cruise In, Mus
 ic on Main all on one great night! Friday, Oct 25th, 5:30-8:00pm, Down
 town Clarkesville. Get a jump on your Christmas shopping! A Trifecta E
 vent.\n\nFor more information visit https://www.southeastwheelsevents.
 com/events/downtown-clarksville-sip-and-stroll
DTSTART;TZID=Pacific/Midway:20191025T173000
DTEND;TZID=Pacific/Midway:20191025T200000
CATEGORIES:cruise, in
LOCATION:The Square, Downtown Clarksville GA
WEBSITE:https://www.facebook.com/events/city-of-clarkesville/trifecta-
 event/394722494451297/
URL:https://www.facebook.com/events/city-of-clarkesville/trifecta-even
 t/394722494451297/
CONTACT:706-754-4216
ORGANIZER:Trifecta Events
ATTACH;FMTTYPE="image/jpeg":https://storage.ning.com/topology/rest/1.0
 /file/get/3635623252?profile=original
ATTENDEE;ROLE=REQ-PARTICIPANT;PARTSTAT=ACCEPTED;RSVP=TRUE;CN="Brent Wa
 lter":https://www.southeastwheelsevents.com/profile/BrentWalter
END:VEVENT
END:VCALENDAR
