BEGIN:VCALENDAR
PRODID:NingEventWidget-v1
VERSION:2.0
METHOD:PUBLISH
BEGIN:VTIMEZONE
TZID:Pacific/Midway
X-LIC-LOCATION:Pacific/Midway
BEGIN:STANDARD
TZOFFSETFROM:-1100
TZOFFSETTO:-1100
TZNAME:SST
DTSTART:19700101T000000
END:STANDARD
END:VTIMEZONE
BEGIN:VEVENT
UID:5072275:Event:561638
DTSTAMP:20260421T055351Z
SUMMARY:Downtown Festival & Car Show -Leeds,AL
DESCRIPTION:Downtown Festival & Car Show -Leeds,AL\n\nFor more informa
 tion visit https://www.southeastwheelsevents.com/events/downtown-festi
 val-car-show-leeds-al
DTSTART;TZID=Pacific/Midway:20130921T090000
DTEND;TZID=Pacific/Midway:20130921T150000
CATEGORIES:car, "&", truck, show
LOCATION:Downtown
WEBSITE:
URL:
CONTACT:205-613-6409, 205-541-7286
ORGANIZER:Jeff
ATTACH;FMTTYPE="image/jpeg":http://storage.ning.com/topology/rest/1.0/
 file/get/967622227?profile=original
ATTENDEE;ROLE=REQ-PARTICIPANT;PARTSTAT=ACCEPTED;RSVP=TRUE;CN="Jack Tho
 mas":https://www.southeastwheelsevents.com/profile/JackThomas
END:VEVENT
END:VCALENDAR
