BEGIN:VCALENDAR
PRODID:NingEventWidget-v1
VERSION:2.0
METHOD:PUBLISH
BEGIN:VTIMEZONE
TZID:Pacific/Midway
X-LIC-LOCATION:Pacific/Midway
BEGIN:STANDARD
TZOFFSETFROM:-1100
TZOFFSETTO:-1100
TZNAME:SST
DTSTART:19700101T000000
END:STANDARD
END:VTIMEZONE
BEGIN:VEVENT
UID:5072275:Event:1245903
DTSTAMP:20260421T140315Z
SUMMARY:DQ Cruise In -Cumming, GA
DESCRIPTION:New Cruise In - Come on out\r\nSupported by Georgia Street
  Rod Association\r\n\n\nFor more information visit https://www.southea
 stwheelsevents.com/events/dq-cruise-in-cumming-ga-2
DTSTART;TZID=Pacific/Midway:20230629T160000
DTEND;TZID=Pacific/Midway:20230629T190000
CATEGORIES:cruise, in, show, car
LOCATION:Dairy Queen
WEBSITE:
URL:
CONTACT:
ORGANIZER:
ATTACH;FMTTYPE="image/jpeg":https://storage.ning.com/topology/rest/1.0
 /file/get/11010031683?profile=original
ATTENDEE;ROLE=REQ-PARTICIPANT;PARTSTAT=ACCEPTED;RSVP=TRUE;CN="Chuck Aa
 ron":https://www.southeastwheelsevents.com/profile/ChuckAaron886
END:VEVENT
END:VCALENDAR
