BEGIN:VCALENDAR
PRODID:NingEventWidget-v1
VERSION:2.0
METHOD:PUBLISH
BEGIN:VTIMEZONE
TZID:Pacific/Midway
X-LIC-LOCATION:Pacific/Midway
BEGIN:STANDARD
TZOFFSETFROM:-1100
TZOFFSETTO:-1100
TZNAME:SST
DTSTART:19700101T000000
END:STANDARD
END:VTIMEZONE
BEGIN:VEVENT
UID:5072275:Event:542495
DTSTAMP:20260421T122903Z
SUMMARY:Dr. Cooper's Drive For Their Lives 1st Annual Car Show
DESCRIPTION:Our First Car show in conjunction with our 4th Annual 5K &
  1 Mile Walk. All proceeds from the Car Show will benefit the Russell 
 County Crisis Center.\n\nFor more information visit https://www.southe
 astwheelsevents.com/events/dr-cooper-s-drive-for-their-lives-1st-annua
 l-car-show
DTSTART;TZID=Pacific/Midway:20120728T080000
DTEND;TZID=Pacific/Midway:20120728T120000
CATEGORIES:charity, car, show, to, raise, money, for, the, russell, co
 unty, crisis, center
LOCATION:Phenix City Spine & Joint Center / Golden Acres Baptist Churc
 h
WEBSITE:http://www.pcspine.com
URL:http://www.pcspine.com
CONTACT:334-298-7700
ORGANIZER;CN="Janie Flis":https://www.southeastwheelsevents.com/profil
 e/JanieFlis
ATTACH;FMTTYPE="image/jpeg":
ATTENDEE;ROLE=REQ-PARTICIPANT;PARTSTAT=ACCEPTED;RSVP=TRUE;CN="Janie Fl
 is":https://www.southeastwheelsevents.com/profile/JanieFlis
END:VEVENT
END:VCALENDAR
