BEGIN:VCALENDAR
PRODID:NingEventWidget-v1
VERSION:2.0
METHOD:PUBLISH
BEGIN:VTIMEZONE
TZID:Pacific/Midway
X-LIC-LOCATION:Pacific/Midway
BEGIN:STANDARD
TZOFFSETFROM:-1100
TZOFFSETTO:-1100
TZNAME:SST
DTSTART:19700101T000000
END:STANDARD
END:VTIMEZONE
BEGIN:VEVENT
UID:5072275:Event:1086865
DTSTAMP:20260423T163531Z
SUMMARY:Drag Racing & Show & Shine Cruise - Hampton, GA
DESCRIPTION:Eighteen divisions featutring cars, trucks, motorcycles, A
 TVs and almost anything with an engine and wheels will begin their cha
 rge to the season titles and all the fun prizes that await!\r\nPlus, t
 he Show-N-Shine, the Speedway Cruise, the Restart Bar deck will be ope
 n, the inaugural Peach Pass Burnout contest (New Edge competitors this
  week) and so much more!\r\n\r\nInfield tunnel opens at 6pm.Tech and D
 rag Practice starts 6pm.Show-N-Shine registration and judging begins a
 t 6:15pm.Grandstands open at 6:30pm.Speedway Cruise at 8pm.Opening Cer
 emonies & the Speed Warning at 9pm.Drag Race Eliminations at 9:09pm!\r
 \nTickets are $10. Five & under are FREE.Drag Race Entry is $20 and in
 cludes admission.Show-N-Shine Entry is $20 and includes admission and 
 speedway cruise.\r\n\n\nFor more information visit https://www.southea
 stwheelsevents.com/events/drag-racing-show-shine-cruise-hampton-ga
DTSTART;TZID=Pacific/Midway:20180609T180000
DTEND;TZID=Pacific/Midway:20180609T220000
CATEGORIES:drag, racing, "&amp", show, shine
LOCATION:Atlanta Motor Speedway
WEBSITE:http://www.atlantamotorspeedway.com/
URL:http://www.atlantamotorspeedway.com/
CONTACT:770-946-3954
ORGANIZER:Atlanta Motor Speedway
ATTACH;FMTTYPE="image/jpeg":http://storage.ning.com/topology/rest/1.0/
 file/get/967774795?profile=original
ATTENDEE;ROLE=REQ-PARTICIPANT;PARTSTAT=ACCEPTED;RSVP=TRUE;CN="Chuck Aa
 ron":https://www.southeastwheelsevents.com/profile/ChuckAaron886
END:VEVENT
END:VCALENDAR
