BEGIN:VCALENDAR
PRODID:NingEventWidget-v1
VERSION:2.0
METHOD:PUBLISH
BEGIN:VTIMEZONE
TZID:Pacific/Midway
X-LIC-LOCATION:Pacific/Midway
BEGIN:STANDARD
TZOFFSETFROM:-1100
TZOFFSETTO:-1100
TZNAME:SST
DTSTART:19700101T000000
END:STANDARD
END:VTIMEZONE
BEGIN:VEVENT
UID:5072275:Event:1036534
DTSTAMP:20260421T085851Z
SUMMARY:Drag Strip Test and Tune
DESCRIPTION:Gates open at noon and run til 4 pm\n$15.00 per Car\n$5.00
  Per person   5 and under Free\n\nFor more information visit https://
 www.southeastwheelsevents.com/events/drag-strip-test-and-tune
DTSTART;TZID=Pacific/Midway:20170305T000000
DTEND;TZID=Pacific/Midway:20170305T235900
CATEGORIES:race
LOCATION:Clarksville Speedway
WEBSITE:http://www.clarksvillespeedway.com/
URL:http://www.clarksvillespeedway.com/
CONTACT:
ORGANIZER:
ATTACH;FMTTYPE="image/jpeg":http://storage.ning.com/topology/rest/1.0/
 file/get/967738196?profile=original
ATTENDEE;ROLE=REQ-PARTICIPANT;PARTSTAT=ACCEPTED;RSVP=TRUE;CN="Christop
 her Gosney":https://www.southeastwheelsevents.com/profile/ChristopherG
 osney
END:VEVENT
END:VCALENDAR
