BEGIN:VCALENDAR
PRODID:NingEventWidget-v1
VERSION:2.0
METHOD:PUBLISH
BEGIN:VTIMEZONE
TZID:Pacific/Midway
X-LIC-LOCATION:Pacific/Midway
BEGIN:STANDARD
TZOFFSETFROM:-1100
TZOFFSETTO:-1100
TZNAME:SST
DTSTART:19700101T000000
END:STANDARD
END:VTIMEZONE
BEGIN:VEVENT
UID:5072275:Event:1185559
DTSTAMP:20260424T071627Z
SUMMARY:Dragon Rally One -Robbinsville, NC
DESCRIPTION:\r\n\r\n\r\n\r\n\r\nDragon Rally One\r\n\r\n\r\n ·Tail o
 f the Dragon\r\n\r\n\r\n\r\n\r\n\r\n\r\n\r\n\r\n\r\n\r\n\r\n\r\n17555 
 Tapoco Road, Robbinsville, North Carolina 28771\r\n\r\n\r\n\r\n\r\n\r\
 n\r\n\r\n\r\n\r\n\r\n\r\n\r\nwww.smokymountaindrives.com\r\n\r\n\r\n\r
 \n\r\n\r\n\r\n\r\n\r\n\r\n\r\n\r\n\n\nFor more information visit https
 ://www.southeastwheelsevents.com/events/dragon-rally-one-robbinsville-
 nc
DTSTART;TZID=Pacific/Midway:20200115T180000
DTEND;TZID=Pacific/Midway:20200115T190000
CATEGORIES:mountain, drive
LOCATION:Tail of the Dragon
WEBSITE:http://www.smokymountaindrives.com
URL:http://www.smokymountaindrives.com
CONTACT:
ORGANIZER:Smoky Mountain Drives
ATTACH;FMTTYPE="image/jpeg":https://storage.ning.com/topology/rest/1.0
 /file/get/3821399139?profile=original
ATTENDEE;ROLE=REQ-PARTICIPANT;PARTSTAT=ACCEPTED;RSVP=TRUE;CN="Chuck Aa
 ron":https://www.southeastwheelsevents.com/profile/ChuckAaron886
END:VEVENT
END:VCALENDAR
