BEGIN:VCALENDAR
PRODID:NingEventWidget-v1
VERSION:2.0
METHOD:PUBLISH
BEGIN:VTIMEZONE
TZID:Pacific/Midway
X-LIC-LOCATION:Pacific/Midway
BEGIN:STANDARD
TZOFFSETFROM:-1100
TZOFFSETTO:-1100
TZNAME:SST
DTSTART:19700101T000000
END:STANDARD
END:VTIMEZONE
BEGIN:VEVENT
UID:5072275:Event:1027567
DTSTAMP:20260423T103848Z
SUMMARY:Dragsters - Exhibit
DESCRIPTION:Dragsters - Exhibit at Tupelo Automobile Museum. Speed is 
 what these vehicles are all about and this exhibit will remind you it 
 takes a lot of hard work, clever design and an unquestionable \"need f
 or speed\". Event start time and end time may change.\n\nFor more info
 rmation visit https://www.southeastwheelsevents.com/events/dragsters-e
 xhibit
DTSTART;TZID=Pacific/Midway:20170107T090000
DTEND;TZID=Pacific/Midway:20170107T163000
CATEGORIES:cars, "clubs/shows/cruises"
LOCATION:Tupelo Automobile Museum
WEBSITE:http://www.tupeloautomuseum.com/special.php
URL:http://www.tupeloautomuseum.com/special.php
CONTACT:
ORGANIZER:Tupelo Automobile Museum
ATTACH;FMTTYPE="image/jpeg":http://storage.ning.com/topology/rest/1.0/
 file/get/967722820?profile=original
ATTENDEE;ROLE=REQ-PARTICIPANT;PARTSTAT=ACCEPTED;RSVP=TRUE;CN="Chris go
 sney":https://www.southeastwheelsevents.com/profile/Chrisgosney
END:VEVENT
END:VCALENDAR
