BEGIN:VCALENDAR
PRODID:NingEventWidget-v1
VERSION:2.0
METHOD:PUBLISH
BEGIN:VTIMEZONE
TZID:Pacific/Midway
X-LIC-LOCATION:Pacific/Midway
BEGIN:STANDARD
TZOFFSETFROM:-1100
TZOFFSETTO:-1100
TZNAME:SST
DTSTART:19700101T000000
END:STANDARD
END:VTIMEZONE
BEGIN:VEVENT
UID:5072275:Event:1074265
DTSTAMP:20260424T012451Z
SUMMARY:Dream Car Classic -Hollywood, FL
DESCRIPTION:\r\n\r\n\r\n\r\n\r\n\r\n\r\nDream Car Classic\r\n\r\n\r\n\
 r\n\r\n\r\n\r\n\r\n\r\n\r\n\r\n\r\n\r\n\r\nA Cobra Joe Production with
  DJ Rockin' Rich Bedford hosting this event, Top 40 Trophies Awarded. 
 Open to all years. Downtown Hollywood is a Great Venue for a Car Show.
  Vendors and shops open for your shopping pleasure.\r\n\r\n\r\nKid Fri
 endly\r\n\r\n\r\n\r\n\r\n\r\n\n\nFor more information visit https://ww
 w.southeastwheelsevents.com/events/dream-car-classic-hollywood-fl-3
DTSTART;TZID=Pacific/Midway:20180304T100000
DTEND;TZID=Pacific/Midway:20180304T160000
CATEGORIES:car, show, cruise, in
LOCATION:Downtown
WEBSITE:http://www.facebook.com/Cobra-Joe-Productions
URL:http://www.facebook.com/Cobra-Joe-Productions
CONTACT:
ORGANIZER:Cobra Joe Productions
ATTACH;FMTTYPE="image/jpeg":http://storage.ning.com/topology/rest/1.0/
 file/get/967757452?profile=original
ATTENDEE;ROLE=REQ-PARTICIPANT;PARTSTAT=ACCEPTED;RSVP=TRUE;CN="Chuck Aa
 ron":https://www.southeastwheelsevents.com/profile/ChuckAaron886
END:VEVENT
END:VCALENDAR
