BEGIN:VCALENDAR
PRODID:NingEventWidget-v1
VERSION:2.0
METHOD:PUBLISH
BEGIN:VTIMEZONE
TZID:Pacific/Midway
X-LIC-LOCATION:Pacific/Midway
BEGIN:STANDARD
TZOFFSETFROM:-1100
TZOFFSETTO:-1100
TZNAME:SST
DTSTART:19700101T000000
END:STANDARD
END:VTIMEZONE
BEGIN:VEVENT
UID:5072275:Event:1273681
DTSTAMP:20260423T220724Z
SUMMARY:Driven By Design Cruise-in Woodstock Ga
DESCRIPTION:\n Driven by Design Cruise-In Brought to you by **Southern
  Sky Home and Liam and Lana**\n\n March 14, 2026 9:00 AM – 12:00 PM 
 Southern Sky Home249 Arnold Mill RdWoodstock, GA 30188\n\nJoin us for 
 a premier automotive gathering where style, horsepower, and community 
 come together. **All Makes – All Models Welcome.** Classics, exotics
 , muscle cars, imports, trucks, customs — everyone is invited to sho
 wcase their ride or simply come out and enjoy the atmosphere.\n\nCafe 
 Floralia: Serving hot coffee, lattes, pastries, croissants, and more t
 o keep everyone fueled throughout the morning.\n\nFor more information
  visit https://www.southeastwheelsevents.com/events/driven-by-design-c
 ruise-in-woodstock-ga-1
DTSTART;TZID=Pacific/Midway:20260314T090000
DTEND;TZID=Pacific/Midway:20260314T120000
CATEGORIES:cruise-in, car, "show.", meet
LOCATION:Southern Sky Home
WEBSITE:https://www.carcommunityconnection.com/events
URL:https://www.carcommunityconnection.com/events
CONTACT:(470) 728-5019
ORGANIZER:Car Community Connection
ATTACH;FMTTYPE="image/jpeg":https://storage.ning.com/topology/rest/1.0
 /file/get/31101092480?profile=original
ATTENDEE;ROLE=REQ-PARTICIPANT;PARTSTAT=ACCEPTED;RSVP=TRUE;CN="Gerardo 
 Hernandez":https://www.southeastwheelsevents.com/profile/GerardoHernan
 dez
END:VEVENT
END:VCALENDAR
