BEGIN:VCALENDAR
PRODID:NingEventWidget-v1
VERSION:2.0
METHOD:PUBLISH
BEGIN:VTIMEZONE
TZID:Pacific/Midway
X-LIC-LOCATION:Pacific/Midway
BEGIN:STANDARD
TZOFFSETFROM:-1100
TZOFFSETTO:-1100
TZNAME:SST
DTSTART:19700101T000000
END:STANDARD
END:VTIMEZONE
BEGIN:VEVENT
UID:5072275:Event:1187450
DTSTAMP:20260424T065406Z
SUMMARY:DUKES BBQ CRUISE IN FOR FOCCUS
DESCRIPTION:\n\nFor more information visit https://www.southeastwheels
 events.com/events/dukes-bbq-cruise-in-for-foccus
DTSTART;TZID=Pacific/Midway:20200328T140000
DTEND;TZID=Pacific/Midway:20200328T170000
CATEGORIES:cruise, in, for, the, fur, babies
LOCATION:DUKES BBQ - WALTERBORO
WEBSITE:
URL:
CONTACT:
ORGANIZER:LOW COUNTRY CRUISERS
ATTACH;FMTTYPE="image/jpeg":https://storage.ning.com/topology/rest/1.0
 /file/get/3844623817?profile=original
ATTENDEE;ROLE=REQ-PARTICIPANT;PARTSTAT=TENTATIVE;RSVP=TRUE;CN="Jeffrey
  Rutherford":https://www.southeastwheelsevents.com/profile/JeffreyRuth
 erford866
END:VEVENT
END:VCALENDAR
