BEGIN:VCALENDAR
PRODID:NingEventWidget-v1
VERSION:2.0
METHOD:PUBLISH
BEGIN:VTIMEZONE
TZID:Pacific/Midway
X-LIC-LOCATION:Pacific/Midway
BEGIN:STANDARD
TZOFFSETFROM:-1100
TZOFFSETTO:-1100
TZNAME:SST
DTSTART:19700101T000000
END:STANDARD
END:VTIMEZONE
BEGIN:VEVENT
UID:5072275:Event:619028
DTSTAMP:20260420T235611Z
SUMMARY:Dukes of Hazzard Reunion Classic Car Show -Byron, GA
DESCRIPTION:Friday, March 8th · 4 p.m. - 11 p.m.\nConcert: David All
 an Coe\nSaturday, March 9th · 10 a.m. - 11 p.m.\nConcert: Ben Jones 
 & Cooter's Garage Band, Confederate Railroad & The LACS Saturday Only 
 The Dukes of Hazzard TV Series Cast Will be signing autographs and tak
 ing pictures with fans.\nSunday, March 10 · 10 a.m. - 7 p.m.\nSaturd
 ay & Sunday: Car Show,Music, Food & Drinks, Hundreds of Vendors, Humv
 ees, Army Tanks, Monster Truck & Helicopter Rides,  Family Festivitie
 s, Jump Houses, and much much more!!\n\n\n\n\nFor more information vis
 it https://www.southeastwheelsevents.com/events/dukes-of-hazzard-reuni
 on-classic-car-show-byron-ga
DTSTART;TZID=Pacific/Midway:20130308T000000
DTEND;TZID=Pacific/Midway:20130310T235900
CATEGORIES:car-show, music, festival
LOCATION:Middle Georgia Raceway
WEBSITE:http://dukesofhazzardgareunion.com/
URL:http://dukesofhazzardgareunion.com/
CONTACT:
ORGANIZER:Dukes GA Reunion
ATTACH;FMTTYPE="image/jpeg":http://storage.ning.com/topology/rest/1.0/
 file/get/967636190?profile=original
ATTENDEE;ROLE=REQ-PARTICIPANT;PARTSTAT=ACCEPTED;RSVP=TRUE;CN="Jack Tho
 mas":https://www.southeastwheelsevents.com/profile/JackThomas
END:VEVENT
END:VCALENDAR
