BEGIN:VCALENDAR
PRODID:NingEventWidget-v1
VERSION:2.0
METHOD:PUBLISH
BEGIN:VTIMEZONE
TZID:Pacific/Midway
X-LIC-LOCATION:Pacific/Midway
BEGIN:STANDARD
TZOFFSETFROM:-1100
TZOFFSETTO:-1100
TZNAME:SST
DTSTART:19700101T000000
END:STANDARD
END:VTIMEZONE
BEGIN:VEVENT
UID:5072275:Event:972420
DTSTAMP:20260421T211753Z
SUMMARY:Duluth Rotary Car Show, Duluth Georgia 30096
DESCRIPTION:\n\nFor more information visit https://www.southeastwheels
 events.com/events/duluth-rotary-car-show-duluth-georgia-30096
DTSTART;TZID=Pacific/Midway:20170408T080000
DTEND;TZID=Pacific/Midway:20170408T140000
CATEGORIES:car, show, to, benefit, operation, one, voice, "(a", charit
 y, help, families, of, our, special, operations, millitary, wounded, i
 n, "action)"
LOCATION:Old Town Duluth, across from new Court House, in front of tow
 n green
WEBSITE:http://www.duluthrotaryevents.org/car-show/
URL:http://www.duluthrotaryevents.org/car-show/
CONTACT:678-468-7841
ORGANIZER;CN="Mark Tyrrell":https://www.southeastwheelsevents.com/prof
 ile/MarkTyrrell
ATTACH;FMTTYPE="image/jpeg":http://storage.ning.com/topology/rest/1.0/
 file/get/967706226?profile=original
ATTENDEE;ROLE=REQ-PARTICIPANT;PARTSTAT=ACCEPTED;RSVP=TRUE;CN="Chuck Aa
 ron":https://www.southeastwheelsevents.com/profile/ChuckAaron886
ATTENDEE;ROLE=REQ-PARTICIPANT;PARTSTAT=ACCEPTED;RSVP=TRUE;CN="Mark Tyr
 rell":https://www.southeastwheelsevents.com/profile/MarkTyrrell
ATTENDEE;ROLE=REQ-PARTICIPANT;PARTSTAT=ACCEPTED;RSVP=TRUE;CN="Ed Mashb
 urn":https://www.southeastwheelsevents.com/profile/EdMashburn
ATTENDEE;ROLE=REQ-PARTICIPANT;PARTSTAT=TENTATIVE;RSVP=TRUE;CN="Bill mu
 sarra":https://www.southeastwheelsevents.com/profile/billmusarra
ATTENDEE;ROLE=REQ-PARTICIPANT;PARTSTAT=TENTATIVE;RSVP=TRUE;CN="Billy H
 endrix":https://www.southeastwheelsevents.com/profile/BillyHendrix707
END:VEVENT
END:VCALENDAR
