BEGIN:VCALENDAR
PRODID:NingEventWidget-v1
VERSION:2.0
METHOD:PUBLISH
BEGIN:VTIMEZONE
TZID:Pacific/Midway
X-LIC-LOCATION:Pacific/Midway
BEGIN:STANDARD
TZOFFSETFROM:-1100
TZOFFSETTO:-1100
TZNAME:SST
DTSTART:19700101T000000
END:STANDARD
END:VTIMEZONE
BEGIN:VEVENT
UID:5072275:Event:1180133
DTSTAMP:20260424T012740Z
SUMMARY:Dyno Day and Car Show at Fast Lane Performance
DESCRIPTION:Get ready for a weekend full of octane at Fast Lane Perfor
 mance's new facility in Atlanta! New office and showroom construction 
 is done. Shop side is set up with lifts and equipment. The Dynojet is 
 ready to roll. It's time to have some fun! Free food, music, games, co
 ntests, awards and much more! Bring friends and family.The Dyno Day & 
 Open House will be followed by a Tail of the Dragon run the next morni
 ng (November 17th). Drivers packet and additional information for the 
 mountain run will be released at the Dyno Day!ScheduleSaturday Novembe
 r 16th at 1:00 PM1:00PM Event Starts and (Free) Registration for show 
 and Shine Begins. Donations are welcome for local schools.2:00PM Dyno 
 Shoot Out Starts Awards given out to -Highest HP N/A Mopar -Highest HP
  N/A Ford -Highest HP N/A GM -Highest HP Import -Overall Highest HP Ca
 r2:30PM Preparation of food (Complimentary) -Hamburgers -Hot Dogs  -Gr
 illed Chicken -Ribs -Pulled Pork -Carne Asada -Corn -Sodas3:00PM Show 
 and Shine Car Show Judging Starts Awards given out to -Most Original -
 Best DIY -Best Classic -Best Late Model -Best Paint -Best interior  -B
 est Engine Bay3:00PM Contests Start -XBOX Forza Racing Simulator Tourn
 ament -RC Car Drag Race Tournament (Hobby Grade) -Foot Race -Raffles 4
 :00PM Dyno Pulls open to everyone5:00 PMAward Ceremony November 17th T
 ail of the Dragon Run. Time and route will be released at the Dyno Day
  & Open House\n\nFor more information visit https://www.southeastwheel
 sevents.com/events/dyno-day-and-car-show-at-fast-lane-performance
DTSTART;TZID=Pacific/Midway:20191116T130000
DTEND;TZID=Pacific/Midway:20191116T190000
CATEGORIES:dyno, day, car, show
LOCATION:Atlanta Georgia
WEBSITE:https://www.facebook.com/events/266374767631078/
URL:https://www.facebook.com/events/266374767631078/
CONTACT:6789329252
ORGANIZER;CN="Parker Bowen":https://www.southeastwheelsevents.com/prof
 ile/ParkerBowen
ATTACH;FMTTYPE="image/jpeg":
ATTENDEE;ROLE=REQ-PARTICIPANT;PARTSTAT=ACCEPTED;RSVP=TRUE;CN="Parker B
 owen":https://www.southeastwheelsevents.com/profile/ParkerBowen
END:VEVENT
END:VCALENDAR
