BEGIN:VCALENDAR
PRODID:NingEventWidget-v1
VERSION:2.0
METHOD:PUBLISH
BEGIN:VTIMEZONE
TZID:Pacific/Midway
X-LIC-LOCATION:Pacific/Midway
BEGIN:STANDARD
TZOFFSETFROM:-1100
TZOFFSETTO:-1100
TZNAME:SST
DTSTART:19700101T000000
END:STANDARD
END:VTIMEZONE
BEGIN:VEVENT
UID:5072275:Event:34789
DTSTAMP:20260424T053453Z
SUMMARY:Earl and Carol's 15th Annual Fun Run -Cookeville, TN
DESCRIPTION:FREE CAR SHOW\nDash Plaques for the first 100 vehicles!\nO
 ldies Music!\nFree hotdogs and cokes!\nFun for the whole Family!\nPLEA
 SE NO ALCOHOLIC BEVERAGES!\n\nFor more information visit https://www.s
 outheastwheelsevents.com/events/earl-and-carols-15th-annual
DTSTART;TZID=Pacific/Midway:20100707T080000
DTEND;TZID=Pacific/Midway:20100710T170000
CATEGORIES:car, show
LOCATION:Cookeville
WEBSITE:
URL:
CONTACT:
ORGANIZER;CN="Bennie Carol Mason":https://www.southeastwheelsevents.co
 m/profile/BennieCarolMason
ATTACH;FMTTYPE="image/jpeg":http://storage.ning.com/topology/rest/1.0/
 file/get/967579660?profile=original
ATTENDEE;ROLE=REQ-PARTICIPANT;PARTSTAT=ACCEPTED;RSVP=TRUE;CN="Bennie C
 arol Mason":https://www.southeastwheelsevents.com/profile/BennieCarolM
 ason
END:VEVENT
END:VCALENDAR
