BEGIN:VCALENDAR
PRODID:NingEventWidget-v1
VERSION:2.0
METHOD:PUBLISH
BEGIN:VTIMEZONE
TZID:Pacific/Midway
X-LIC-LOCATION:Pacific/Midway
BEGIN:STANDARD
TZOFFSETFROM:-1100
TZOFFSETTO:-1100
TZNAME:SST
DTSTART:19700101T000000
END:STANDARD
END:VTIMEZONE
BEGIN:VEVENT
UID:5072275:Event:636427
DTSTAMP:20260420T061503Z
SUMMARY:East Atlanta Roll - Atlanta, GA
DESCRIPTION:Grease Monkeys & Village Garage and Custom is proud to pre
 sent the East Atlanta Roll, Saturday, May 11th, 2013!\n \nJoin us on 
 Saturday, May 11th, 2013 from 3pm to 9pm as Grease Monkeys & Village G
 arage and Custom present the Spring edition of the East Atlanta Roll! 
 The theme for this one is going to be MORE! We’re working hard to se
 cure MORE lots throughout East Atlanta Village which will offer MORE s
 pace for even MORE vehicles and attendees! We’re even going to bring
  you MORE live music! Bring your family and friends to enjoy a great S
 aturday afternoon taking in the shops and restaurants of East Atlanta 
 while catching an eye full of the best rides in Atlanta!  We're lookin
 g for all kinds of rides on both two wheels and four wheels: Vintage, 
 Muscle, Modern, Custom. One catch: NO TRAILER QUEENS!\n \n$10 entry f
 ee per judged vehicle. Judged categories include cars, motorcycles/sco
 oters and bicycles.\n \nTo register and for more information: www.ea
 statlantaroll.com\n\nFor more information visit https://www.southeastw
 heelsevents.com/events/east-atlanta-roll-atlanta-ga-1
DTSTART;TZID=Pacific/Midway:20130511T150000
DTEND;TZID=Pacific/Midway:20130511T210000
CATEGORIES:car, motorcycle, scooter, "&", bicycle, show
LOCATION:East Atlanta Village
WEBSITE:http://www.eastatlantaroll.com
URL:http://www.eastatlantaroll.com
CONTACT:
ORGANIZER;CN="Grease Monkeys":https://www.southeastwheelsevents.com/pr
 ofile/GreaseMonkeys
ATTACH;FMTTYPE="image/jpeg":http://storage.ning.com/topology/rest/1.0/
 file/get/967635110?profile=original
ATTENDEE;ROLE=REQ-PARTICIPANT;PARTSTAT=ACCEPTED;RSVP=TRUE;CN="Grease M
 onkeys":https://www.southeastwheelsevents.com/profile/GreaseMonkeys
END:VEVENT
END:VCALENDAR
