BEGIN:VCALENDAR
PRODID:NingEventWidget-v1
VERSION:2.0
METHOD:PUBLISH
BEGIN:VTIMEZONE
TZID:Pacific/Midway
X-LIC-LOCATION:Pacific/Midway
BEGIN:STANDARD
TZOFFSETFROM:-1100
TZOFFSETTO:-1100
TZNAME:SST
DTSTART:19700101T000000
END:STANDARD
END:VTIMEZONE
BEGIN:VEVENT
UID:5072275:Event:930904
DTSTAMP:20260422T225414Z
SUMMARY:East Hickman High School Eagle 1 Car Show -Lyles, TN
DESCRIPTION:40+ Class 5- $100 Prizes and Door prizes Drive Thru Judgin
 g All Paved Parking All Proceeds go to Benefit East Hickman School Aut
 omotive Class.\ntonycollins747@yahoo.com\n\nFor more information visit
  https://www.southeastwheelsevents.com/events/east-hickman-high-school
 -eagle-1-car-show-lyles-tn
DTSTART;TZID=Pacific/Midway:20150912T080000
DTEND;TZID=Pacific/Midway:20150912T150000
CATEGORIES:car-show, fundraiser
LOCATION:7700 Hwy 7
WEBSITE:
URL:
CONTACT:Tony Collins 931-623-9420
ORGANIZER:East Hickman School Automotive Class
ATTACH;FMTTYPE="image/jpeg":http://storage.ning.com/topology/rest/1.0/
 file/get/967693893?profile=original
ATTENDEE;ROLE=REQ-PARTICIPANT;PARTSTAT=ACCEPTED;RSVP=TRUE;CN="Chuck Aa
 ron":https://www.southeastwheelsevents.com/profile/ChuckAaron
END:VEVENT
END:VCALENDAR
