BEGIN:VCALENDAR
PRODID:NingEventWidget-v1
VERSION:2.0
METHOD:PUBLISH
BEGIN:VTIMEZONE
TZID:Pacific/Midway
X-LIC-LOCATION:Pacific/Midway
BEGIN:STANDARD
TZOFFSETFROM:-1100
TZOFFSETTO:-1100
TZNAME:SST
DTSTART:19700101T000000
END:STANDARD
END:VTIMEZONE
BEGIN:VEVENT
UID:5072275:Event:16511
DTSTAMP:20260420T233243Z
SUMMARY:East Paulding High School car, Truck & Motorcycle Show -Dallas
 , GA
DESCRIPTION:East Paulding High School car, Truck & Motorcycle Show -Da
 llas, GA\nInfo Jim Green 404-683-9491\n\nFor more information visit ht
 tps://www.southeastwheelsevents.com/events/east-paulding-high-school-c
 ar
DTSTART;TZID=Pacific/Midway:20100417T100000
DTEND;TZID=Pacific/Midway:20100417T170000
CATEGORIES:car-show
LOCATION:East Paulding High School
WEBSITE:http://www.eastpauldingcarshow.com
URL:http://www.eastpauldingcarshow.com
CONTACT:Jim Green 404-683-9491
ORGANIZER:East Paulding High School
ATTACH;FMTTYPE="image/jpeg":http://storage.ning.com/topology/rest/1.0/
 file/get/967576045?profile=original
ATTENDEE;ROLE=REQ-PARTICIPANT;PARTSTAT=ACCEPTED;RSVP=TRUE;CN="Michael 
 Thies":https://www.southeastwheelsevents.com/profile/MichaelThies
END:VEVENT
END:VCALENDAR
