BEGIN:VCALENDAR
PRODID:NingEventWidget-v1
VERSION:2.0
METHOD:PUBLISH
BEGIN:VTIMEZONE
TZID:Pacific/Midway
X-LIC-LOCATION:Pacific/Midway
BEGIN:STANDARD
TZOFFSETFROM:-1100
TZOFFSETTO:-1100
TZNAME:SST
DTSTART:19700101T000000
END:STANDARD
END:VTIMEZONE
BEGIN:VEVENT
UID:5072275:Event:1069377
DTSTAMP:20260419T054425Z
SUMMARY:El Rio's Restaurant Car/Truck/Bike Cruise-In
DESCRIPTION:Car/Truck/Bike Cruise-In at El Rio's Mexican Restaurant 
 located at 202Gilmer Ave Lanett, AL on November 4, 2017.  This is an
  open Cruise-In for all cars, trucks and motorcycles.  This is a Kid 
 friendly event, so please bring the family and come and join us on No
 vember 4.  Thanks. \n\nFor more information visit https://www.southe
 astwheelsevents.com/events/el-rio-s-restaurant-car-truck-bike-cruise-i
 n
DTSTART;TZID=Pacific/Midway:20171104T150000
DTEND;TZID=Pacific/Midway:20171104T190000
CATEGORIES:cruise-in
LOCATION:El Rio Grande Restaurant
WEBSITE:
URL:
CONTACT:334-329-9807
ORGANIZER;CN="Lee Coxwell":https://www.southeastwheelsevents.com/profi
 le/LeeCoxwell
ATTACH;FMTTYPE="image/jpeg":http://storage.ning.com/topology/rest/1.0/
 file/get/967753076?profile=original
ATTENDEE;ROLE=REQ-PARTICIPANT;PARTSTAT=ACCEPTED;RSVP=TRUE;CN="Lee Coxw
 ell":https://www.southeastwheelsevents.com/profile/LeeCoxwell
END:VEVENT
END:VCALENDAR
