BEGIN:VCALENDAR
PRODID:NingEventWidget-v1
VERSION:2.0
METHOD:PUBLISH
BEGIN:VTIMEZONE
TZID:Pacific/Midway
X-LIC-LOCATION:Pacific/Midway
BEGIN:STANDARD
TZOFFSETFROM:-1100
TZOFFSETTO:-1100
TZNAME:SST
DTSTART:19700101T000000
END:STANDARD
END:VTIMEZONE
BEGIN:VEVENT
UID:5072275:Event:980192
DTSTAMP:20260422T034522Z
SUMMARY:Eli's Block Pcarty -Athens, Ga
DESCRIPTION:\nJoin us for craft and vendor booths, food, kids activiti
 es, music and cool cars! Bring your car or truck, or sign up to be a v
 endor or to provide a kids activity booth.\nLocation and directions: 
  north on 65 to east hwy 72, then north on Lindsay Lane.\n\nFor more i
 nformation visit:\n\nhttp://www.teamvictory4all.org\n\n\nFor more info
 rmation visit https://www.southeastwheelsevents.com/events/eli-s-block
 -pcarty-athens-ga
DTSTART;TZID=Pacific/Midway:20170520T080000
DTEND;TZID=Pacific/Midway:20170520T160000
CATEGORIES:car-show, fundraiser
LOCATION:Florence Flea Market
WEBSITE:
URL:
CONTACT:Luther Johnson 843-430-0159
ORGANIZER;CN="Chuck Aaron":https://www.southeastwheelsevents.com/profi
 le/ChuckAaron
ATTACH;FMTTYPE="image/jpeg":http://storage.ning.com/topology/rest/1.0/
 file/get/967707993?profile=original
ATTENDEE;ROLE=REQ-PARTICIPANT;PARTSTAT=ACCEPTED;RSVP=TRUE;CN="Chuck Aa
 ron":https://www.southeastwheelsevents.com/profile/ChuckAaron
END:VEVENT
END:VCALENDAR
