BEGIN:VCALENDAR
PRODID:NingEventWidget-v1
VERSION:2.0
METHOD:PUBLISH
BEGIN:VTIMEZONE
TZID:Pacific/Midway
X-LIC-LOCATION:Pacific/Midway
BEGIN:STANDARD
TZOFFSETFROM:-1100
TZOFFSETTO:-1100
TZNAME:SST
DTSTART:19700101T000000
END:STANDARD
END:VTIMEZONE
BEGIN:VEVENT
UID:5072275:Event:1241867
DTSTAMP:20260421T212029Z
SUMMARY:Emerald Coast Cruizin -Panama City Beach, FL
DESCRIPTION:\r\nEmerald Coast Cruizin is a yearly car show and curizin
  which is held in Panama City Beach, Florida. Cruize on down with your
  family, hot rod and enjoy the beautiful \"Emerald Coast\"  www.emera
 ldcoastcruizin.com\r\nAaron Bessant Park is located at 500 W Park Dr,
  Panama City Beach, FL 32413. We are just across from Pier Park, just 
 one block away from the beach! This event is positioned on 17 acres of
  luscious green grass, with side walks, shade trees, park benches, and
  clean air conditioned restrooms. Emerald Coast Cruizin’ features a 
 center stage to host live music and show awards. Ladies, Pier Park off
 ers over 125 stores for fabulous shopping right next door! You will no
 t want to miss this event! Make plans now for Emerald Coast Cruizin’
 !\r\nSecure offsite trailer parking will be available for vehicle regi
 strants with trailers. Please see Vehicle Registration for a Trailer P
 arking Pass available for $25.00, which includes trailer parking for t
 he entire event.\n\nFor more information visit https://www.southeastwh
 eelsevents.com/events/emerald-coast-cruizin-panama-city-beach-fl-1
DTSTART;TZID=Pacific/Midway:20230308T000000
DTEND;TZID=Pacific/Midway:20230311T235900
CATEGORIES:cruiz-in
LOCATION:Aaron Bessant Park
WEBSITE:https://emeraldcoastcruizin.com/
URL:https://emeraldcoastcruizin.com/
CONTACT:Robert Parrish 662-587-9572
ORGANIZER:
ATTACH;FMTTYPE="image/jpeg":http://storage.ning.com/topology/rest/1.0/
 file/get/967634068?profile=original
ATTENDEE;ROLE=REQ-PARTICIPANT;PARTSTAT=ACCEPTED;RSVP=TRUE;CN="Chuck Aa
 ron":https://www.southeastwheelsevents.com/profile/ChuckAaron886
END:VEVENT
END:VCALENDAR
