BEGIN:VCALENDAR
PRODID:NingEventWidget-v1
VERSION:2.0
METHOD:PUBLISH
BEGIN:VTIMEZONE
TZID:Pacific/Midway
X-LIC-LOCATION:Pacific/Midway
BEGIN:STANDARD
TZOFFSETFROM:-1100
TZOFFSETTO:-1100
TZNAME:SST
DTSTART:19700101T000000
END:STANDARD
END:VTIMEZONE
BEGIN:VEVENT
UID:5072275:Event:627174
DTSTAMP:20260422T165252Z
SUMMARY:Emerald Coast Cruizin -Panama City Beach, FL
DESCRIPTION:Emerald Coast Cruizin is a yearly car show and curizin whi
 ch is held in Panama City Beach, Florida. Cruize on down with your fam
 ily, hot rod and enjoy the beautiful \"Emerald Coast\"www.emeraldcoast
 cruizin.com\n\n\nFor more information visit https://www.southeastwheel
 sevents.com/events/emerald-coast-cruizin-panama-city-beach-fl
DTSTART;TZID=Pacific/Midway:20131104T000000
DTEND;TZID=Pacific/Midway:20131109T235900
CATEGORIES:cruiz-in
LOCATION:Aaron Bessant Park
WEBSITE:http://www.emeraldcoasstcruizin.com
URL:http://www.emeraldcoasstcruizin.com
CONTACT:6625879572
ORGANIZER;CN="Robert Parrish":https://www.southeastwheelsevents.com/pr
 ofile/RakesParrish
ATTACH;FMTTYPE="image/jpeg":http://storage.ning.com/topology/rest/1.0/
 file/get/967634068?profile=original
ATTENDEE;ROLE=REQ-PARTICIPANT;PARTSTAT=ACCEPTED;RSVP=TRUE;CN="Robert P
 arrish":https://www.southeastwheelsevents.com/profile/RakesParrish
END:VEVENT
END:VCALENDAR
