BEGIN:VCALENDAR
PRODID:NingEventWidget-v1
VERSION:2.0
METHOD:PUBLISH
BEGIN:VTIMEZONE
TZID:Pacific/Midway
X-LIC-LOCATION:Pacific/Midway
BEGIN:STANDARD
TZOFFSETFROM:-1100
TZOFFSETTO:-1100
TZNAME:SST
DTSTART:19700101T000000
END:STANDARD
END:VTIMEZONE
BEGIN:VEVENT
UID:5072275:Event:1025807
DTSTAMP:20260423T101737Z
SUMMARY:Emerald Coast HOG - Monthly Membership Meeting
DESCRIPTION:The Emerald Coast HOG Chapter holds their official Saturda
 y Social and general membership meeting on the third Saturday of the m
 onth at 9:00 am at Emerald Coast H-D in Ft. Walton Beach, FL. Stop in 
 for coffee, donuts.\n\nFor more information visit https://www.southeas
 twheelsevents.com/events/emerald-coast-hog-monthly-membership-meeting
DTSTART;TZID=Pacific/Midway:20161217T090000
DTEND;TZID=Pacific/Midway:20161217T100000
CATEGORIES:motorcycles, "clubs/shows/cruises"
LOCATION:Emerald Coast Harley-Davidson
WEBSITE:http://www.echog.com/ECHOG_Calendar.html
URL:http://www.echog.com/ECHOG_Calendar.html
CONTACT:
ORGANIZER:Emerald Coast HOG
ATTACH;FMTTYPE="image/jpeg":http://storage.ning.com/topology/rest/1.0/
 file/get/967719074?profile=original
ATTENDEE;ROLE=REQ-PARTICIPANT;PARTSTAT=ACCEPTED;RSVP=TRUE;CN="Chris go
 sney":https://www.southeastwheelsevents.com/profile/Chrisgosney
END:VEVENT
END:VCALENDAR
