BEGIN:VCALENDAR
PRODID:NingEventWidget-v1
VERSION:2.0
METHOD:PUBLISH
BEGIN:VTIMEZONE
TZID:Pacific/Midway
X-LIC-LOCATION:Pacific/Midway
BEGIN:STANDARD
TZOFFSETFROM:-1100
TZOFFSETTO:-1100
TZNAME:SST
DTSTART:19700101T000000
END:STANDARD
END:VTIMEZONE
BEGIN:VEVENT
UID:5072275:Event:938537
DTSTAMP:20260423T093332Z
SUMMARY:Emerald Coast Performance Workshop -Fort Walton Beach, FL
DESCRIPTION:\nThe Emerald Coast Performance Workshop will be held at 
 Emerald Coast Harley Davidson in Fort Walton Beach, Florida on Novembe
 r 5th, 2015.Location:-Emerald Coast Harley Davidson in Fort Walton Bea
 ch, Florida (788 Beal Parkway Northeast, Fort Walton Beach, FL 32547)
 Come on out and learn how Screamin' Eagle Products can enhance the per
 formance of your motorcycle! Event Hours:-7:00pm-9:00pmPlease Contact
  For More Information:-(866) 313-1250\n\nFor more information visit ht
 tps://www.southeastwheelsevents.com/events/emerald-coast-performance-w
 orkshop-fort-walton-beach-fl
DTSTART;TZID=Pacific/Midway:20151205T190000
DTEND;TZID=Pacific/Midway:20151216T213000
CATEGORIES:garage-party, bike, motorcycle
LOCATION:Emerald Coast Harley Davidson
WEBSITE:http://www.emeraldcoasthd.com
URL:http://www.emeraldcoasthd.com
CONTACT:866-313-1250
ORGANIZER:Emerald Coast Harley Davidson
ATTACH;FMTTYPE="image/jpeg":http://storage.ning.com/topology/rest/1.0/
 file/get/967669436?profile=original
ATTENDEE;ROLE=REQ-PARTICIPANT;PARTSTAT=ACCEPTED;RSVP=TRUE;CN="Chuck Aa
 ron":https://www.southeastwheelsevents.com/profile/ChuckAaron
END:VEVENT
END:VCALENDAR
