BEGIN:VCALENDAR
PRODID:NingEventWidget-v1
VERSION:2.0
METHOD:PUBLISH
BEGIN:VTIMEZONE
TZID:Pacific/Midway
X-LIC-LOCATION:Pacific/Midway
BEGIN:STANDARD
TZOFFSETFROM:-1100
TZOFFSETTO:-1100
TZNAME:SST
DTSTART:19700101T000000
END:STANDARD
END:VTIMEZONE
BEGIN:VEVENT
UID:5072275:Event:1244287
DTSTAMP:20260421T170732Z
SUMMARY:Emerald Coast Spring Cruzin - Panama City Beach, Fl
DESCRIPTION:Emerald Coast Cruizin’\r\nIn Panama City Beach, FL\r\n\r
 \n\r\nPanama City Beach, Florida is home to the “World’s Most Beau
 tiful Beaches” and host to Emerald Coast Cruizin’.  “The South
 s Best Blast from the Past” Annual Automotive Festival”, founded
  in 2005. Emerald Coast Cruizin’ was designed and developed for the 
 automotive enthusiast, so whether you drive a Classic, Hot Rod, Street
  Rod, Exotics, Muscle car…this family friendly event has something f
 or everyone!\r\n\r\n\n\nFor more information visit https://www.southea
 stwheelsevents.com/events/emerald-coast-spring-cruzin-panama-city-beac
 h-fl-2
DTSTART;TZID=Pacific/Midway:20230308T000000
DTEND;TZID=Pacific/Midway:20230311T235900
CATEGORIES:car, show, cruise, in
LOCATION:Aaron Beassant Park,
WEBSITE:https://emeraldcoastcruizin.com/
URL:https://emeraldcoastcruizin.com/
CONTACT:(662) 587-9572
ORGANIZER:
ATTACH;FMTTYPE="image/jpeg":https://storage.ning.com/topology/rest/1.0
 /file/get/10994438100?profile=original
ATTENDEE;ROLE=REQ-PARTICIPANT;PARTSTAT=ACCEPTED;RSVP=TRUE;CN="Chuck Aa
 ron":https://www.southeastwheelsevents.com/profile/ChuckAaron886
END:VEVENT
END:VCALENDAR
