BEGIN:VCALENDAR
PRODID:NingEventWidget-v1
VERSION:2.0
METHOD:PUBLISH
BEGIN:VTIMEZONE
TZID:Pacific/Midway
X-LIC-LOCATION:Pacific/Midway
BEGIN:STANDARD
TZOFFSETFROM:-1100
TZOFFSETTO:-1100
TZNAME:SST
DTSTART:19700101T000000
END:STANDARD
END:VTIMEZONE
BEGIN:VEVENT
UID:5072275:Event:209252
DTSTAMP:20260422T032712Z
SUMMARY:Exotic Car & Bike Day -Johns Creek, GA
DESCRIPTION:Exotic Car & Bike Day\n\nFor more information visit https:
 //www.southeastwheelsevents.com/events/exotic-car-bike-day-johns
DTSTART;TZID=Pacific/Midway:20110416T000000
DTEND;TZID=Pacific/Midway:20110416T235900
CATEGORIES:car, "&", bike, meet
LOCATION:North Atlanta Area
WEBSITE:http://www.redlinestreetriders.com
URL:http://www.redlinestreetriders.com
CONTACT:
ORGANIZER:Red Line Riders
ATTACH;FMTTYPE="image/jpeg":http://storage.ning.com/topology/rest/1.0/
 file/get/967589292?profile=original
ATTENDEE;ROLE=REQ-PARTICIPANT;PARTSTAT=ACCEPTED;RSVP=TRUE;CN="joe good
 mon":https://www.southeastwheelsevents.com/profile/joegoodmon
ATTENDEE;ROLE=REQ-PARTICIPANT;PARTSTAT=ACCEPTED;RSVP=TRUE;CN="Vincent 
 Vitale":https://www.southeastwheelsevents.com/profile/VincentVitale
END:VEVENT
END:VCALENDAR
