BEGIN:VCALENDAR
PRODID:NingEventWidget-v1
VERSION:2.0
METHOD:PUBLISH
BEGIN:VTIMEZONE
TZID:Pacific/Midway
X-LIC-LOCATION:Pacific/Midway
BEGIN:STANDARD
TZOFFSETFROM:-1100
TZOFFSETTO:-1100
TZNAME:SST
DTSTART:19700101T000000
END:STANDARD
END:VTIMEZONE
BEGIN:VEVENT
UID:5072275:Event:492330
DTSTAMP:20260423T084205Z
SUMMARY:Extreme Expo Car & Bike Show
DESCRIPTION:Drifting/Motorcycle Stunt & Jumps /Car & Bike Show, Combat
  Sports Exibitions and Charity Event.   DJ spinnion some of the hottes
 t beats, good food from vendors, and one hell of a car show. All in 1 
 Places....  Over 12 classes to ENTER & WIN  Car & Bike show Classes: -
 Best VIP Style -Best Japanese/Korean -Best European -Best American -Be
 st Truck  -Best Classic car Stock -Best Classic Custom Modified -Best 
 Hot Rod/Rat Rod -Best Classic Motorcycle Stock -Best Custom Chopper  -
 Best Bobber/Old School Motorcycle -Best Street Motorcycle Custom  Ther
 e will be raffles for some very cool prizes from vendors and sponsors.
    Inside Wild Bills will be Combat Sports Exibitions. Entrances Fee: 
 $5 Car & Bike Registration: $25  Register Online: http://rsvpatl.com/x
 treme-expo  Brought to you by Wild Bills, Speed & Mischief, RSVPATL, F
 lood Brothers, FMX East, Georgia Fighters, Moving for Cure.\n\nFor mor
 e information visit https://www.southeastwheelsevents.com/events/extre
 me-expo-car-bike-show
DTSTART;TZID=Pacific/Midway:20120407T090000
DTEND;TZID=Pacific/Midway:20120407T220000
CATEGORIES:fundraiser, car, show
LOCATION:Wild Bills
WEBSITE:http://www.facebook.com/events/216409148460302/
URL:http://www.facebook.com/events/216409148460302/
CONTACT:
ORGANIZER;CN="Sunny Malhotra":https://www.southeastwheelsevents.com/pr
 ofile/SunnyMalhotra
ATTACH;FMTTYPE="image/jpeg":http://storage.ning.com/topology/rest/1.0/
 file/get/967614835?profile=original
ATTENDEE;ROLE=REQ-PARTICIPANT;PARTSTAT=ACCEPTED;RSVP=TRUE;CN="Sunny Ma
 lhotra":https://www.southeastwheelsevents.com/profile/SunnyMalhotra
END:VEVENT
END:VCALENDAR
