BEGIN:VCALENDAR
PRODID:NingEventWidget-v1
VERSION:2.0
METHOD:PUBLISH
BEGIN:VTIMEZONE
TZID:Pacific/Midway
X-LIC-LOCATION:Pacific/Midway
BEGIN:STANDARD
TZOFFSETFROM:-1100
TZOFFSETTO:-1100
TZNAME:SST
DTSTART:19700101T000000
END:STANDARD
END:VTIMEZONE
BEGIN:VEVENT
UID:5072275:Event:446090
DTSTAMP:20260423T065331Z
SUMMARY:F-100 SUPERNATIONALS &ALL FORD SHOW,PIGEON FORGE,TENN.
DESCRIPTION:FORD TRUCK SHOW AND ALL FORD CAR SHOW\n\nFor more informat
 ion visit https://www.southeastwheelsevents.com/events/f-100-supernati
 onals-all-ford-show
DTSTART;TZID=Pacific/Midway:20120517T080000
DTEND;TZID=Pacific/Midway:20120519T180000
CATEGORIES:ford, car, and, truck, show
LOCATION:PIGEON FORGE TENN.
WEBSITE:http://www.f100supenationals.cm
URL:http://www.f100supenationals.cm
CONTACT:423-623-2723
ORGANIZER;CN="rodney buckner":https://www.southeastwheelsevents.com/pr
 ofile/rodneybuckner
ATTACH;FMTTYPE="image/jpeg":
ATTENDEE;ROLE=REQ-PARTICIPANT;PARTSTAT=ACCEPTED;RSVP=TRUE;CN="rodney b
 uckner":https://www.southeastwheelsevents.com/profile/rodneybuckner
END:VEVENT
END:VCALENDAR
