BEGIN:VCALENDAR
PRODID:NingEventWidget-v1
VERSION:2.0
METHOD:PUBLISH
BEGIN:VTIMEZONE
TZID:Pacific/Midway
X-LIC-LOCATION:Pacific/Midway
BEGIN:STANDARD
TZOFFSETFROM:-1100
TZOFFSETTO:-1100
TZNAME:SST
DTSTART:19700101T000000
END:STANDARD
END:VTIMEZONE
BEGIN:VEVENT
UID:5072275:Event:927242
DTSTAMP:20260421T065121Z
SUMMARY:F-Body Beach Bash 2015 -Myrtle Beach, SC
DESCRIPTION:Do you love Camaros or Trans Am's?  You won't want to miss
  the biggest F-Body event on the east coast in beautiful Myrtle Beach,
  S.C. F-Body Beach Bash is a weekend packed full of events for any f-b
 ody owner with a Cruise In, Track Day at Myrtle Beach Speedway, Ocean 
 Blvd cruise and ending with a Huge Car Show. Show Website and Registra
 tion: www.fbodybeachbash.com Link to show: https://www.facebook.com/ev
 ents/809687852417095/\r\n\r\n\r\n\r\n      WE HOPE TO SEE YOU AT F-BO
 DY BEACH BASH \n\nFor more information visit https://www.southeastwhe
 elsevents.com/events/f-body-beach-bash-2015
DTSTART;TZID=Pacific/Midway:20171012T000000
DTEND;TZID=Pacific/Midway:20171014T235900
CATEGORIES:car, show, cruise, in, racing, cruising
LOCATION:various Myrtle Beach locations
WEBSITE:http://www.fbodybeachbash.com
URL:http://www.fbodybeachbash.com
CONTACT:Terry Blanton 864-979-8761
ORGANIZER;CN="F-Body Beach Bash":https://www.southeastwheelsevents.com
 /profile/FBodyBeachBash
ATTACH;FMTTYPE="image/jpeg":http://storage.ning.com/topology/rest/1.0/
 file/get/967695534?profile=original
ATTENDEE;ROLE=REQ-PARTICIPANT;PARTSTAT=ACCEPTED;RSVP=TRUE;CN="F-Body B
 each Bash":https://www.southeastwheelsevents.com/profile/FBodyBeachBas
 h
ATTENDEE;ROLE=REQ-PARTICIPANT;PARTSTAT=ACCEPTED;RSVP=TRUE;CN="Chuck Aa
 ron":https://www.southeastwheelsevents.com/profile/ChuckAaron886
END:VEVENT
END:VCALENDAR
