BEGIN:VCALENDAR
PRODID:NingEventWidget-v1
VERSION:2.0
METHOD:PUBLISH
BEGIN:VTIMEZONE
TZID:Pacific/Midway
X-LIC-LOCATION:Pacific/Midway
BEGIN:STANDARD
TZOFFSETFROM:-1100
TZOFFSETTO:-1100
TZNAME:SST
DTSTART:19700101T000000
END:STANDARD
END:VTIMEZONE
BEGIN:VEVENT
UID:5072275:Event:381277
DTSTAMP:20260423T065121Z
SUMMARY:F100 Supernationals & All Ford Show- Pigeon Forge, TN
DESCRIPTION:That's right! We will be holding the F-100 Supernats in Pi
 geon Forge, Tennessee in the city Municipal parking lot once again. Th
 is city has been found to be the choice of spectators, vendors and par
 ticipants with it's variety of hotels, restaurants and entertainment. 
 We look forward to seeing you in Pigeon Forge for the 2012 F-100 Super
 nationals and All Ford Show\n\nFor more information visit https://www.
 southeastwheelsevents.com/events/f100-supernationals-all-ford-show
DTSTART;TZID=Pacific/Midway:20120517T000000
DTEND;TZID=Pacific/Midway:20120519T235900
CATEGORIES:car, and, truck, show
LOCATION:2836 Teaster Lane
WEBSITE:http://www.f100supernationals.com
URL:http://www.f100supernationals.com
CONTACT:423-465-5855
ORGANIZER:Charlie Cobble
ATTACH;FMTTYPE="image/jpeg":
ATTENDEE;ROLE=REQ-PARTICIPANT;PARTSTAT=ACCEPTED;RSVP=TRUE;CN="Matt Wil
 liams":https://www.southeastwheelsevents.com/profile/MattWilliams
END:VEVENT
END:VCALENDAR
