BEGIN:VCALENDAR
PRODID:NingEventWidget-v1
VERSION:2.0
METHOD:PUBLISH
BEGIN:VTIMEZONE
TZID:Pacific/Midway
X-LIC-LOCATION:Pacific/Midway
BEGIN:STANDARD
TZOFFSETFROM:-1100
TZOFFSETTO:-1100
TZNAME:SST
DTSTART:19700101T000000
END:STANDARD
END:VTIMEZONE
BEGIN:VEVENT
UID:5072275:Event:1180489
DTSTAMP:20260424T013051Z
SUMMARY:Faff Classic Pontiac/Oakland/GMC Car Show - Jacksonville, Fl
DESCRIPTION:Faff  Classic  Pontiac/Oakland/GMC Car  Show   at  P
 DQ\n\nFor more information visit https://www.southeastwheelsevents.com
 /events/faff-classic-pontiac-oakland-gmc-car-show-jacksonville-fl
DTSTART;TZID=Pacific/Midway:20191116T090000
DTEND;TZID=Pacific/Midway:20191116T150000
CATEGORIES:car, show, cruise-in
LOCATION:PDQ,
WEBSITE:http://dixiechapter.com
URL:http://dixiechapter.com
CONTACT:(904) 705-4872; (904) 868-9207
ORGANIZER:Andy Musil, Gary Harrison
ATTACH;FMTTYPE="image/jpeg":https://storage.ning.com/topology/rest/1.0
 /file/get/3700536380?profile=original
ATTENDEE;ROLE=REQ-PARTICIPANT;PARTSTAT=ACCEPTED;RSVP=TRUE;CN="Anthony 
 Hopkins":https://www.southeastwheelsevents.com/profile/AnthonyHopkins
END:VEVENT
END:VCALENDAR
