BEGIN:VCALENDAR
PRODID:NingEventWidget-v1
VERSION:2.0
METHOD:PUBLISH
BEGIN:VTIMEZONE
TZID:Pacific/Midway
X-LIC-LOCATION:Pacific/Midway
BEGIN:STANDARD
TZOFFSETFROM:-1100
TZOFFSETTO:-1100
TZNAME:SST
DTSTART:19700101T000000
END:STANDARD
END:VTIMEZONE
BEGIN:VEVENT
UID:5072275:Event:1180125
DTSTAMP:20260419T054205Z
SUMMARY:Fairfield County Veterans Day Poker Run/Car Show - Columbia, S
 c
DESCRIPTION:Fairfield County Veterans Day Poker Run / Car Show, My Hou
 se Restaurant.\n\nFor more information visit https://www.southeastwhee
 lsevents.com/events/fairfield-county-veterans-day-poker-run-car-show-c
 olumbia-sc
DTSTART;TZID=Pacific/Midway:20191109T090000
DTEND;TZID=Pacific/Midway:20191109T120000
CATEGORIES:car, show, cruise-in
LOCATION:My House Restaurant,
WEBSITE:
URL:
CONTACT:(803) 463-5756
ORGANIZER:Curran
ATTACH;FMTTYPE="image/jpeg":https://storage.ning.com/topology/rest/1.0
 /file/get/3700528772?profile=original
ATTENDEE;ROLE=REQ-PARTICIPANT;PARTSTAT=ACCEPTED;RSVP=TRUE;CN="Anthony 
 Hopkins":https://www.southeastwheelsevents.com/profile/AnthonyHopkins
END:VEVENT
END:VCALENDAR
