BEGIN:VCALENDAR
PRODID:NingEventWidget-v1
VERSION:2.0
METHOD:PUBLISH
BEGIN:VTIMEZONE
TZID:Pacific/Midway
X-LIC-LOCATION:Pacific/Midway
BEGIN:STANDARD
TZOFFSETFROM:-1100
TZOFFSETTO:-1100
TZNAME:SST
DTSTART:19700101T000000
END:STANDARD
END:VTIMEZONE
BEGIN:VEVENT
UID:5072275:Event:929467
DTSTAMP:20260419T082715Z
SUMMARY:Faith Cruiser's Lawrenceville, GA Cruise In
DESCRIPTION:Family friendly fun and fellowship in faith. All rides and
  wheels welcome. Burgers, dogs, chips and drinks from Pappy's pit. 2nd
  Sunday of each month 2-6p\nPeoples choice and 50/50 drawings held @
  5:30pm\n\nFor more information visit https://www.southeastwheelsevent
 s.com/events/faith-cruiser-s-lawrenceville-ga-cruise-in
DTSTART;TZID=Pacific/Midway:20150913T140000
DTEND;TZID=Pacific/Midway:20150913T180000
CATEGORIES:cruise, in
LOCATION:Trinity Christian Fellowship
WEBSITE:http://www.tcfchurch.com/
URL:http://www.tcfchurch.com/
CONTACT:770-480-2148
ORGANIZER;CN="Kurt Aldridge":https://www.southeastwheelsevents.com/pro
 file/KurtAldridge
ATTACH;FMTTYPE="image/jpeg":http://storage.ning.com/topology/rest/1.0/
 file/get/967694006?profile=original
ATTENDEE;ROLE=REQ-PARTICIPANT;PARTSTAT=ACCEPTED;RSVP=TRUE;CN="Kurt Ald
 ridge":https://www.southeastwheelsevents.com/profile/KurtAldridge
ATTENDEE;ROLE=REQ-PARTICIPANT;PARTSTAT=TENTATIVE;RSVP=TRUE;CN="John Ba
 ker":https://www.southeastwheelsevents.com/profile/JohnJBaker
END:VEVENT
END:VCALENDAR
