BEGIN:VCALENDAR
PRODID:NingEventWidget-v1
VERSION:2.0
METHOD:PUBLISH
BEGIN:VTIMEZONE
TZID:Pacific/Midway
X-LIC-LOCATION:Pacific/Midway
BEGIN:STANDARD
TZOFFSETFROM:-1100
TZOFFSETTO:-1100
TZNAME:SST
DTSTART:19700101T000000
END:STANDARD
END:VTIMEZONE
BEGIN:VEVENT
UID:5072275:Event:1176918
DTSTAMP:20260420T233405Z
SUMMARY:FALCONS TAIL GATE & CRUISE IN
DESCRIPTION:\n\nFor more information visit https://www.southeastwheels
 events.com/events/falcons-tail-gate-cruise-in
DTSTART;TZID=Pacific/Midway:20190907T000000
DTEND;TZID=Pacific/Midway:20190907T170000
CATEGORIES:cruise, in, "&amp", tailgate, party
LOCATION:TIME TO EXHALE Premium Cigars
WEBSITE:
URL:
CONTACT:
ORGANIZER;CN="Jeffrey Rutherford":https://www.southeastwheelsevents.co
 m/profile/JeffreyRutherford866
ATTACH;FMTTYPE="image/jpeg":https://storage.ning.com/topology/rest/1.0
 /file/get/3545233313?profile=original
ATTENDEE;ROLE=REQ-PARTICIPANT;PARTSTAT=ACCEPTED;RSVP=TRUE;CN="Jeffrey 
 Rutherford":https://www.southeastwheelsevents.com/profile/JeffreyRuthe
 rford866
END:VEVENT
END:VCALENDAR
