BEGIN:VCALENDAR
PRODID:NingEventWidget-v1
VERSION:2.0
METHOD:PUBLISH
BEGIN:VTIMEZONE
TZID:Pacific/Midway
X-LIC-LOCATION:Pacific/Midway
BEGIN:STANDARD
TZOFFSETFROM:-1100
TZOFFSETTO:-1100
TZNAME:SST
DTSTART:19700101T000000
END:STANDARD
END:VTIMEZONE
BEGIN:VEVENT
UID:5072275:Event:676022
DTSTAMP:20260424T162800Z
SUMMARY:Fall Classic Car, Truck, and Motorcycle Show -Lake Park, GA
DESCRIPTION:2013%20car%20show%20flyer%20with%20border.pdf\n\nFor more 
 information visit https://www.southeastwheelsevents.com/events/fall-cl
 assis-car-truck-and-motorcycle-show
DTSTART;TZID=Pacific/Midway:20131026T080000
DTEND;TZID=Pacific/Midway:20131026T160000
CATEGORIES:car, truck, and, motorcycle, show
LOCATION:Lake Park Outlets
WEBSITE:http://www.sgccc.org
URL:http://www.sgccc.org
CONTACT:229-292-1032
ORGANIZER:South Georgia Classic Car Club (Valdosta)
ATTACH;FMTTYPE="image/jpeg":
ATTENDEE;ROLE=REQ-PARTICIPANT;PARTSTAT=ACCEPTED;RSVP=TRUE;CN="Madonna 
 Terry":https://www.southeastwheelsevents.com/profile/MadonnaTerry
END:VEVENT
END:VCALENDAR
