BEGIN:VCALENDAR
PRODID:NingEventWidget-v1
VERSION:2.0
METHOD:PUBLISH
BEGIN:VTIMEZONE
TZID:Pacific/Midway
X-LIC-LOCATION:Pacific/Midway
BEGIN:STANDARD
TZOFFSETFROM:-1100
TZOFFSETTO:-1100
TZNAME:SST
DTSTART:19700101T000000
END:STANDARD
END:VTIMEZONE
BEGIN:VEVENT
UID:5072275:Event:949166
DTSTAMP:20260423T073121Z
SUMMARY:Fall Fest Car & Truck Show -York, SC
DESCRIPTION:Charity car and truck show benefit for We Care. Top 50 and
  several best ofs including best car and truck\n\nFor more information
  visit https://www.southeastwheelsevents.com/events/fall-fest-car-truc
 k-show
DTSTART;TZID=Pacific/Midway:20161029T090000
DTEND;TZID=Pacific/Midway:20161029T150000
CATEGORIES:car, "&", truck, show
LOCATION:Downtown York
WEBSITE:
URL:
CONTACT:803-517-7977
ORGANIZER;CN="Jonathan Taylor":https://www.southeastwheelsevents.com/p
 rofile/JonathanTaylor885
ATTACH;FMTTYPE="image/jpeg":http://storage.ning.com/topology/rest/1.0/
 file/get/967699544?profile=original
ATTENDEE;ROLE=REQ-PARTICIPANT;PARTSTAT=ACCEPTED;RSVP=TRUE;CN="Chuck Aa
 ron":https://www.southeastwheelsevents.com/profile/ChuckAaron886
ATTENDEE;ROLE=REQ-PARTICIPANT;PARTSTAT=ACCEPTED;RSVP=TRUE;CN="Jonathan
  Taylor":https://www.southeastwheelsevents.com/profile/JonathanTaylor8
 85
END:VEVENT
END:VCALENDAR
