BEGIN:VCALENDAR
PRODID:NingEventWidget-v1
VERSION:2.0
METHOD:PUBLISH
BEGIN:VTIMEZONE
TZID:Pacific/Midway
X-LIC-LOCATION:Pacific/Midway
BEGIN:STANDARD
TZOFFSETFROM:-1100
TZOFFSETTO:-1100
TZNAME:SST
DTSTART:19700101T000000
END:STANDARD
END:VTIMEZONE
BEGIN:VEVENT
UID:5072275:Event:881705
DTSTAMP:20260424T020633Z
SUMMARY:General Joe's Car & Truck Show -Rogersville, AL
DESCRIPTION:Annul General Joe's Car & Truck Show -Rogersville, AL\n\nF
 or more information visit https://www.southeastwheelsevents.com/events
 /fall-festival-antique-car-truck-show
DTSTART;TZID=Pacific/Midway:20170812T080000
DTEND;TZID=Pacific/Midway:20170812T150000
CATEGORIES:car, show, festival
LOCATION:Joe Wheeler State Park
WEBSITE:
URL:
CONTACT:Haley 256-2437-5466
ORGANIZER:
ATTACH;FMTTYPE="image/jpeg":http://storage.ning.com/topology/rest/1.0/
 file/get/967687292?profile=original
ATTENDEE;ROLE=REQ-PARTICIPANT;PARTSTAT=ACCEPTED;RSVP=TRUE;CN="Chuck Aa
 ron":https://www.southeastwheelsevents.com/profile/ChuckAaron886
ATTENDEE;ROLE=REQ-PARTICIPANT;PARTSTAT=ACCEPTED;RSVP=TRUE;CN="Janna Wh
 itley":https://www.southeastwheelsevents.com/profile/JannaWhitley
END:VEVENT
END:VCALENDAR
